BEGIN:VCALENDAR
VERSION:2.0
PRODID:-//wp-events-plugin.com//7.2.3.1//EN
TZID:Europe/Vienna
X-WR-TIMEZONE:Europe/Vienna
BEGIN:VEVENT
UID:21394@musicaustria.at
DTSTART;TZID=Europe/Vienna:20260121T193000
DTEND;TZID=Europe/Vienna:20260121T193000
DTSTAMP:20251203T115519Z
URL:https://www.musicaustria.at/veranstaltungen/yasmo-ein-gesellschaftspol
 itischer-revueabend-mit-yasmo-friends/
SUMMARY:YASMO - Ein gesellschaftspolitischer Revueabend mit Yasmo & friends
DESCRIPTION:mit Ina Regen\, Anna Buchegger\, Aida Loos\, Sodl\, Schwesta Eb
 ra und Yasmo\n\nDie Wiener Künstlerin Yasmo bringt ihre unverwechselbare 
 Mischung aus Spoken Word und Musik erneut ins Theater Akzent. Nach dem erf
 olgreichen Auftakt 2025 geht „Yasmo &amp\; friends“ nun in die zweite 
 Runde – ein Abend voller kraftvoller Stimmen\, pointierter Texte und int
 imer musikalischer Momente. Gemeinsam mit herausragenden Künstlerinnen ge
 staltet Yasmo einen gesellschaftspolitischen Revueabend\, der bewegt\, ins
 piriert und zum Nachdenken anregt. Neben berührenden Performances auf der
  Bühne öffnet die Gastgeberin in Gesprächen mit den Mitwirkenden den Bl
 ick hinter die Kulissen und schafft so einen nahbaren\, persönlichen Rahm
 en. Für humorvolle Spitzen und scharfe Gesellschaftskritik sorgt Aida Loo
 s\, eine der bedeutendsten Stimmen des österreichischen Kabaretts. In ihr
 en Soloprogrammen verwebt sie messerscharfe Analysen mit warmherziger Iron
 ie und brilliert auch mit ihrer Kolumne „freudloos“ im Kurier. Mit Sch
 westa Ebra steht eine der prägendsten Stimmen der feministischen Hip-Hop-
 Szene auf der Bühne. Die Rapperin\, Moderatorin und Aktivistin verbindet 
 charismatische Performance mit gesellschaftskritischen Lyrics\, in denen s
 ie Themen wie Migration\, Identität und Gleichberechtigung in den Mittelp
 unkt stellt. Abseits der Musik setzt sie sich in verschiedenen Projekten d
 afür ein\, dass benachteiligte Menschen eine Stimme bekommen. Musikalisch
  ist das Line-up ebenso hochkarätig wie abwechslungsreich: Sodl\, FM4-Awa
 rd-Gewinnerin und Drittplatzierte des MuFA Musikproduzentinnen*-Preises\, 
 begeistert als eine der spannendsten Newcomerinnen der österreichischen M
 usikszene. Anna Buchegger\, Ikone der Dialektmusik\, überzeugt mit markan
 ter Stimme und authentischer Bühnenpräsenz. Und als Höhepunkt rundet In
 a Regen – Amadeus-Award-Gewinnerin und Chartstürmerin – den Abend mit
  ihrem unverwechselbaren Mix aus Gefühl\, Tiefgang und Pop-Appeal ab. Sie
  wird außerdem Mentorin im MuFA Mentoring Programm 2025/26 sein.\n„Yasm
 o &amp\; friends“ verspricht einen Abend\, der musikalische Vielfalt\, g
 esellschaftspolitische Relevanz und persönliche Nähe auf einzigartige We
 ise vereint.
LOCATION:Theater Akzent\, Theresianumgasse 18\, Wien\, Wien\, 1040\, Öster
 reich
GEO:48.192327;16.374998
X-APPLE-STRUCTURED-LOCATION;VALUE=URI;X-ADDRESS=Theresianumgasse 18\, Wien\
 , Wien\, 1040\, Österreich;X-APPLE-RADIUS=100;X-TITLE=Theater Akzent:geo:
 48.192327,16.374998
END:VEVENT
BEGIN:VTIMEZONE
TZID:Europe/Vienna
X-LIC-LOCATION:Europe/Vienna
BEGIN:STANDARD
DTSTART:20251026T020000
TZOFFSETFROM:+0200
TZOFFSETTO:+0100
TZNAME:CET
END:STANDARD
END:VTIMEZONE
END:VCALENDAR