BEGIN:VCALENDAR
VERSION:2.0
PRODID:-//wp-events-plugin.com//7.2.3.1//EN
TZID:Europe/Vienna
X-WR-TIMEZONE:Europe/Vienna
BEGIN:VEVENT
UID:20178@musicaustria.at
DTSTART;TZID=Europe/Vienna:20250403T180000
DTEND;TZID=Europe/Vienna:20250403T210000
DTSTAMP:20250327T074904Z
URL:https://www.musicaustria.at/veranstaltungen/workshop-wtf-is-ai-music-k
 uenstliche-intelligenz-in-der-musik/
SUMMARY:Workshop: WTF is AI Music? - Künstliche Intelligenz in der Musik
DESCRIPTION:In diesem Workshop werden mehrere schnell wachsende Plattformen
  untersucht und getestet\, um einen Überblick darüber zu erhalten\, wohi
 n die Reise von KI und Musik führen wird. Der Workshop wird auch einen Ü
 berblick über die rechtlichen Grundlagen und den im Umbruch befindlichen 
 Musikmarkt geben sowie philosophische Fragen (stochastische und generative
  Musik\, algorithmische Komposition\, Deep Fake Artist und mehr) untersuch
 en.\n\nScharmien Zandi ist eine preisgekrönte Komponistin\, Musikerin und
  Performance-Künstlerin. 2022 erhielt sie das Startstipendium für Musik 
 und darstellende Kunst des BMKÖS\, im Rahmen dessen sie unter anderem zur
  zeitgenössischen Aufführungspraxis sowie zur computerbasierten und comp
 utergenerierten Musik forschte. Mit "funKI Projects" realisiert sie versch
 iedene Projekte\, in denen sie sich mit Kunst\, Musik und Künstlicher Int
 elligenz auseinandersetzt. Sie ist Co-Gründerin des Kunstkollektivs D#AVA
 NTGARDE und Präsidentin der internationalen Akademie der Künste Wien (iA
 KW). https://scharmienzandi.com/funKI/\n\nMarkus Deisenberger ist Jurist\
 , Journalist und Buchautor und arbeitet als Fachreferent Karriereberatung 
 für das mica music austria.\n\nAnmeldung unter tirol@musicaustria.at\n\nD
 er Workshop ist kostenlos.
CATEGORIES:Workshops
LOCATION:mica Servicestelle Tirol im Musikbüro Tirol\, Ferdinand-Weyrer St
 raße 13\, Innsbruck\, Tirol\, 6020\, Österreich
GEO:47.281976;11.411871
X-APPLE-STRUCTURED-LOCATION;VALUE=URI;X-ADDRESS=Ferdinand-Weyrer Straße 13
 \, Innsbruck\, Tirol\, 6020\, Österreich;X-APPLE-RADIUS=100;X-TITLE=mica 
 Servicestelle Tirol im Musikbüro Tirol:geo:47.281976,11.411871
END:VEVENT
BEGIN:VTIMEZONE
TZID:Europe/Vienna
X-LIC-LOCATION:Europe/Vienna
BEGIN:DAYLIGHT
DTSTART:20250330T030000
TZOFFSETFROM:+0100
TZOFFSETTO:+0200
TZNAME:CEST
END:DAYLIGHT
END:VTIMEZONE
END:VCALENDAR