BEGIN:VCALENDAR
VERSION:2.0
PRODID:-//wp-events-plugin.com//7.2.3.1//EN
TZID:Europe/Vienna
X-WR-TIMEZONE:Europe/Vienna
BEGIN:VEVENT
UID:15239@musicaustria.at
DTSTART;TZID=Europe/Vienna:20220729T130000
DTEND;TZID=Europe/Vienna:20220729T170000
DTSTAMP:20220725T112604Z
URL:https://www.musicaustria.at/veranstaltungen/workshop-workshop-flying-w
 ires-synthesizer/
SUMMARY:WORKSHOP „FLYING WIRES SYNTHESIZER“
DESCRIPTION:Ein Workshop in Kooperation mit Sounds Queer? zu den Basics der
  Elektronik und Funktionsweise von Synthesizern. Wie fließt der Strom und
  was sind diese komischen Symbole im Schaltkreis und wofür sind sie da?\n
 \nUm das Verständnis zu vertiefen\, werden wir unsere erste eigene kleine
  Sound Maschine mit der Technik des Flying Wire bauen. Das heißt\, wir ar
 beiten ohne PCB (Printed Circuit Board)\, sondern bauen unsere eigene Plat
 ine. So kann man nachvollziehen\, wie die einzelnen Komponenten interagier
 en und man kann das fertige Circuit Board auch an die Wand hängen\, wie e
 in Kunstwerk.\n\nKeine vorherige Erfahrung gebraucht!\nWorkshopsprachen: D
 eutsch\, Englisch\, Spanisch &amp\; Österreichische Gebärdensprache\n\nD
 AUER: 4 Stunden\n\nIn Coop w/ Popfest Wien\nPresented by Wirtschaftsagentu
 r Wien\n\nAnmeldung: Die Teilnahme am Workshop ist frei und funktioniert 
 via Open Call. Eine kurze Info zu sich selbst und einige Zeilen über die 
 Motivation hinter der Bewerbung für den Fyling Wires. Bitte um Anmeldung 
 per E-Mail: synthesizerworkshop@popfest.at\nBPoC &amp\; FLINTA sind beson
 ders eingeladen\, sich zu bewerben.\nDie Teilnahme ist kostenlos.\n\n&nbsp
 \;
CATEGORIES:Workshops
LOCATION:Club U\, Künstlerhauspassage Objekt U26 / Otto Wagner Pavillon\, 
 Wien\, Wien\, 1010\, Vienna\, Österreich
GEO:48.2077;16.3705
X-APPLE-STRUCTURED-LOCATION;VALUE=URI;X-ADDRESS=Künstlerhauspassage Objekt
  U26 / Otto Wagner Pavillon\, Wien\, Wien\, 1010\, Vienna\, Österreich;X-
 APPLE-RADIUS=100;X-TITLE=Club U:geo:48.2077,16.3705
END:VEVENT
BEGIN:VTIMEZONE
TZID:Europe/Vienna
X-LIC-LOCATION:Europe/Vienna
BEGIN:DAYLIGHT
DTSTART:20220327T030000
TZOFFSETFROM:+0100
TZOFFSETTO:+0200
TZNAME:CEST
END:DAYLIGHT
END:VTIMEZONE
END:VCALENDAR