BEGIN:VCALENDAR
VERSION:2.0
PRODID:-//wp-events-plugin.com//7.2.3.1//EN
TZID:Europe/Vienna
X-WR-TIMEZONE:Europe/Vienna
BEGIN:VEVENT
UID:20221@musicaustria.at
DTSTART;TZID=Europe/Vienna:20250321T150000
DTEND;TZID=Europe/Vienna:20250321T170000
DTSTAMP:20250311T082928Z
URL:https://www.musicaustria.at/veranstaltungen/workshop-thinking-out-of-t
 he-box-neue-berufsbilder-und-moeglichkeiten-in-der-klassik/
SUMMARY:Workshop: Thinking out of the box – Neue Berufsbilder und Möglic
 hkeiten in der Klassik
DESCRIPTION:VORAUSSETZUNG:\nDie Bereitschaft\, eigene Erfahrungen zu teilen
  und Offenheit für neue Ideen. Der Workshop soll ein kreativer Raum sein\
 , um gemeinsam über die Zukunft der klassischen Musik nachzudenken und in
 novative Wege zu erkunden („Thinking out of the box“).\n\nINHALT\nDer 
 Workshop bietet eine spannende und interaktive Gelegenheit\, sich mit den 
 aktuellen Entwicklungen und neuen Berufsbildern in der klassischen Musik a
 useinanderzusetzen. In den letzten Jahren haben sich neben traditionellen 
 Berufen wie dem*der Orchestermusiker*in\, dem Dirigenten*der Dirigentin un
 d dem Solisten*der Solistin neue Türen geöffnet.\n\nIn diesem Workshop w
 erden wir gemeinsam mit unseren erfahrenen Gästen aus der Musikbranche di
 ese neuen Berufsbilder erkunden und Karrierewege diskutieren. Im Zentrum s
 tehen dabei individuelle Fragen\, die sich (nicht nur) Musiker*innen in de
 r Ausbildung stellen (sollten):\n\n 	Welches Berufsbild habe ich von mir s
 elbst?\n 	Wohin will ich mich als Künstler*in entwickeln?\n 	Was brauchen
  Agenturen und Veranstalter*innen dafür von mir?\n 	Wer oder was kann mic
 h dabei unterstützen\, die Chancen und Hindernisse auf diesem Weg zu erke
 nnen bzw. zu überwinden?\n\nModeration:\n\n 	Mag.a Antonia Grüner\, Fach
 referentin Klassik\, Global Music\, Neue Volksmusik\, Jazz\, Improvisierte
  Musik bei mica – music austria\n\nGäste:\n\n 	Sophie ABRAHAM (NL)\, Ce
 llistin des radio.string.quartet und KUG-Alumna\n 	Lorenz BLAUMER (DE)\, K
 ünstlerischer Leiter des Stegreif Orchesters\, Geiger\, Produzent\, Klang
 künstler und Musikvermittler\n 	Xenia GROH-HU (DE)\, Geschäftsführerin 
 von Karsten Witt Musik Management und Pianistin\n 	Univ.Prof.in Mag.a Dr.i
 n Constanze Wimmer\, Vizerektorin für Lehre und Universitätsprofessorin 
 für Kunstvermittlung an der KUG\n\nZIEL\nAufzeigen neuer Wege und Möglic
 hkeiten\, die Leidenschaft für klassische Musik in innovative und zukunft
 sorientierte Karrieren umzusetzen. Individuelle berufliche Wege bewusst un
 d erfolgreich gestalten.\n\nZIELGRUPPE\nStudierende und Absolvent*innen de
 r Kunstuniversität Graz\, mdw Wien und Universität Mozarteum Salzburg\n\
 nVORTRAGENDE*R\nmica - music austria und Gäste\n\nTEILNEHMER*INNENANZAHL\
 nunbegrenzt\n\nANMELDUNG\n\nbis 18.03.2025 per E-Mail an csc@kug.ac.at\n\n
 Zoom-Webinar\, der Zoomlink wird nach erfolgreicher Anmeldung verschickt\n
 \n&nbsp\;\n\nEin Angebot in Kooperation mit mica – music austria und dem
  Career Service Center der KUG  // Antonia GRÜNER &amp\; Constanze WIMME
 R
CATEGORIES:Workshops
END:VEVENT
BEGIN:VTIMEZONE
TZID:Europe/Vienna
X-LIC-LOCATION:Europe/Vienna
BEGIN:STANDARD
DTSTART:20241027T020000
TZOFFSETFROM:+0200
TZOFFSETTO:+0100
TZNAME:CET
END:STANDARD
END:VTIMEZONE
END:VCALENDAR