BEGIN:VCALENDAR
VERSION:2.0
PRODID:-//wp-events-plugin.com//7.2.3.1//EN
TZID:Europe/Vienna
X-WR-TIMEZONE:Europe/Vienna
BEGIN:VEVENT
UID:18731@musicaustria.at
DTSTART;TZID=Europe/Vienna:20240606T150000
DTEND;TZID=Europe/Vienna:20240606T190000
DTSTAMP:20240606T123733Z
URL:https://www.musicaustria.at/veranstaltungen/workshop-musik-foerderunge
 n-bundeslaender-teil-2-bundeslaender-sessions/
SUMMARY:Workshop: Förderungen Teil 2: Bundesländer
DESCRIPTION:Im ersten\, allgemeinen Teil des Workshops am 5.6.2024 (separat
 e Anmeldung erforderlich) werden die Grundlagen besprochen. In diesem Teil
  2 am 6.6.2024 wird gezielt auf Fördermöglichkeiten und Spezifika der Ei
 nreichungen in den einzelnen Bundesländern eingegangen. Hierbei kann auf 
 individuelle Fragen (zu geplanten Einreichungen) Bezug genommen werden. An
 hand der Anmeldungen werden Bundesländer-Slots eingeteilt. Zwischen 15:00
  Uhr und 19:00 Uhr bekommen die Bundesländer jeweils 30 Minuten Slots\, w
 o auf die Eigenheiten der Förderlinien eingegangen wird.\nDie Kulturabtei
 lungen aller Bundesländer in Österreich fördern Musikschaffende und Ins
 titutionen aus dem Bereich der Musik auf unterschiedliche Weise. Unterstü
 tzt werden Einzelprojekte\, Konzertreihen\, Festivals\, u.a. auf hohem kü
 nstlerischen Niveau. Wesentliche Formen der Förderung sind die Projektfö
 rderung für Ensembles\, Bands\, Orchester und Chöre sowie die Kompositio
 nsförderung für Einzelpersonen.\nUm die Musikschaffenden in ganz Österr
 eich fit für ihre Fördereinreichungen bei den jeweiligen Kulturabteilung
 en der Bundesländer zu machen\, wollen wir die wichtigsten Förderschiene
 n vorstellen\, präsentieren Informationen zu den Förderrichtlinien und E
 inreich-Modalitäten und notwendigen Formularen sowie Tools und Tipps aus 
 der Antrags-Praxis.\nMit der Fair-Pay-Initiative soll in Österreich ein w
 ichtiger Schritt für eine gerechte Entlohnung und faire Arbeitsbedingunge
 n in Kunst und Kultur gesetzt werden. Im Rahmen des Workshops wird darauf 
 eingegangen\, welche Auswirkungen das auf die Fördereinreichungen hat bzw
 . in Zukunft haben wird.\n&nbsp\;\n\nWann? 06.06.2024 von 15:00 - 19:00 Uh
 r\n\nWo? ZOOM (Link wird nach Anmeldung per E-Mail zugesandt)\nVortragende
 : Antonia Grüner (mica – music austria)\, Georg Steker (Geschäftsführ
 er der Musiktheatertage Wien)\nDie Teilnahme ist kostenlos. Bitte um Anmel
 dung per E-Mail: office@musicaustria.at\n\n&nbsp\;\nBundesländer-Slots f
 ür den Workshop:\n15:00 – 16:00 Wien\n16:00 – 16:30 Salzburg\n16:30 
 – 17:00 Steiermark\n17:00 – 17:30 Tirol/Vorarlberg\n17:30 – 18:00 N
 Ö\n18:00 - 18:30 OÖ\n18:30 – 19:00 Burgenland\, Kärnten\n 
CATEGORIES:Workshops
END:VEVENT
BEGIN:VTIMEZONE
TZID:Europe/Vienna
X-LIC-LOCATION:Europe/Vienna
BEGIN:DAYLIGHT
DTSTART:20240331T030000
TZOFFSETFROM:+0100
TZOFFSETTO:+0200
TZNAME:CEST
END:DAYLIGHT
END:VTIMEZONE
END:VCALENDAR