BEGIN:VCALENDAR
VERSION:2.0
PRODID:-//wp-events-plugin.com//7.2.3.1//EN
TZID:Europe/Vienna
X-WR-TIMEZONE:Europe/Vienna
BEGIN:VEVENT
UID:19525@musicaustria.at
DTSTART;TZID=Europe/Vienna:20240312T183000
DTEND;TZID=Europe/Vienna:20240312T200000
DTSTAMP:20240829T134935Z
URL:https://www.musicaustria.at/veranstaltungen/workshop-music-talk-gaeste
 /
SUMMARY:Workshop: Music Talk + Gäste (Koop mit Rockhouse)
DESCRIPTION:&nbsp\;\n\nHast du dich schon mal gefragt\, wie du zu einem Gig
  im Rahmen der Reihe Local Heroes oder als Support-Act für nationale wie 
 internationale Stars kommen kannst? Oder was es braucht\, um die Jury des 
 Xtra-Ordinary-Samplers von deiner Musik zu überzeugen?\n\nSolche Fragen h
 aben sich in den letzten Jahren als Schwerpunkte beim Music Talk herausgeb
 ildet und schlußendlich auch zum Format „Bring Your Own Song“ geführ
 t. All dies (sowie damit zusammenhängende Bereiche von Studio/Aufnahmetec
 hniken bis hin zu wirtschaftlichen Aspekten) soll nun noch stärker unter 
 dem neuen Motto „My Music\, My Style &amp\; Why?“ in den Focus genomme
 n werden\, wobei es weiterhin keinerlei Genrebegrenzungen geben wird.\n\nD
 er Music Talk richtet sich dabei vor allem am junge Musiker:innen\, die am
  Anfang ihrer Karriere stehen (aber nicht nur). Vor allem geht es um einen
  locker-ungezwungenen Austausch von Praxis-Tipps &amp\; Tricks zwischen Mu
 siker:innen (inkl. gelegentlicher Special Guests)\, fachkundig moderiert v
 on Rockhouse Geschäftsführer Wolfgang Descho und Didi Neidhart (mica Sal
 zburg).\n\nWann? 12.03.2024 von 18:30 - 20:00 Uhr\n\nWo? Rockhouse Salzbur
 g\, Schallmooser Hauptstraße 46\, 5020 Salzburg\n\nModeration: Wolfgang D
 escho (Rockhouse)\, Didi Neidhart (mica - music austria Servicestelle Salz
 burg)\n\nGast: Clemens Panagl\n\nDie Teilnahme ist kostenlos. Eine Anmeldu
 ng ist nicht notwendig.
CATEGORIES:Workshops
LOCATION:Rockhouse\, Schallmooser Hauptstraße 46\, Salzburg\, Salzburg\, 5
 020\, Österreich
GEO:47.806921;13.058989
X-APPLE-STRUCTURED-LOCATION;VALUE=URI;X-ADDRESS=Schallmooser Hauptstraße 4
 6\, Salzburg\, Salzburg\, 5020\, Österreich;X-APPLE-RADIUS=100;X-TITLE=Ro
 ckhouse:geo:47.806921,13.058989
END:VEVENT
BEGIN:VTIMEZONE
TZID:Europe/Vienna
X-LIC-LOCATION:Europe/Vienna
BEGIN:STANDARD
DTSTART:20231029T020000
TZOFFSETFROM:+0200
TZOFFSETTO:+0100
TZNAME:CET
END:STANDARD
END:VTIMEZONE
END:VCALENDAR