BEGIN:VCALENDAR
VERSION:2.0
PRODID:-//wp-events-plugin.com//7.2.3.1//EN
TZID:Europe/Vienna
X-WR-TIMEZONE:Europe/Vienna
BEGIN:VEVENT
UID:19665@musicaustria.at
DTSTART;TZID=Europe/Vienna:20240606T143000
DTEND;TZID=Europe/Vienna:20240606T164500
DTSTAMP:20240923T121930Z
URL:https://www.musicaustria.at/veranstaltungen/workshop-music-business-pr
 omotion-marketing-in-kooperation-mit-jazzinstitut-kug/
SUMMARY:Workshop: Music Business - Promotion & Marketing (in Kooperation mi
 t Jazzinstitut KUG)
DESCRIPTION:In diesem Workshop in englischer Sprache für Studierende des J
 azzinstituts der KUG wird eine Einführung in Promotion &amp\; Marketing i
 m Music Business gegeben.\n\n&nbsp\;\n\nZielgruppe: Die Teilnahme an diese
 m Workshop ist ausschließlich Studierenden des Jazzinstituts der KUG vorb
 ehalten.\n\n&nbsp\;\n\nWann? 07.06.2024 von 14:30 - 16:45 Uhr\n\nWo? Moser
 hofgasse 39-41\, 8010 Graz\n\n&nbsp\;\n\nVortragende:\n\nJulia Fischer\, m
 ica – music austria
CATEGORIES:Workshops
LOCATION:Institut Jazz KUG\, Moserhofgasse 39-41\, Graz\, Steiermark\, 8010
 \, Österreich
GEO:47.059271;15.452281
X-APPLE-STRUCTURED-LOCATION;VALUE=URI;X-ADDRESS=Moserhofgasse 39-41\, Graz\
 , Steiermark\, 8010\, Österreich;X-APPLE-RADIUS=100;X-TITLE=Institut Jazz
  KUG:geo:47.059271,15.452281
END:VEVENT
BEGIN:VTIMEZONE
TZID:Europe/Vienna
X-LIC-LOCATION:Europe/Vienna
BEGIN:DAYLIGHT
DTSTART:20240331T030000
TZOFFSETFROM:+0100
TZOFFSETTO:+0200
TZNAME:CEST
END:DAYLIGHT
END:VTIMEZONE
END:VCALENDAR