BEGIN:VCALENDAR
VERSION:2.0
PRODID:-//wp-events-plugin.com//7.2.3.1//EN
TZID:Europe/Vienna
X-WR-TIMEZONE:Europe/Vienna
BEGIN:VEVENT
UID:20224@musicaustria.at
DTSTART;TZID=Europe/Vienna:20250409T110000
DTEND;TZID=Europe/Vienna:20250409T123000
DTSTAMP:20260120T082209Z
URL:https://www.musicaustria.at/veranstaltungen/workshop-jazzahead-2025/
SUMMARY:Workshop: How to navigate jazzahead!
DESCRIPTION:jazzahead! ist das weltweit größte Branchentreffen der Jazzs
 zene. Jedes Jahr treffen sich in Bremen Musiker:innen\, Labels\, Agenturen
 \, Veranstalter:innen und Medien aus Europa und Übersee\, um miteinander 
 zu plaudern\, neue Musik zu entdecken und Geschäfte anzukurbeln. Die Mess
 e ist deshalb für aufstrebende Musiker:innen definitiv eine Reise wert. A
 ber das erste Mal kann verwirrend sein: So viele Austeller:innen\, Mensche
 n\, Showcase-Konzerte... Mit wem soll man am besten reden? Was kann man er
 warten? Und vor allem: Was kann man für sich erreichen?\n\nIn diesem Work
 shop werden der Musiker und jazzahead!-Profi Lukas Kranzelbinder und der M
 usiker Philip Yaeger einen Überblick über die Messe bieten und darüber 
 sprechen\, wie man seine Zeit in Bremen am besten nützen kann. Mit ausrei
 chend Zeit für Fragen.\n\nVortragende: Lukas Kanzelbinder\, Philip Yaeger
 \n\nLukas Kranzelbinder\, geboren 1988 in Klagenfurt\, lebt in Wien und ar
 beitet als Bassist\, Komponist und im Bereich des Musik-Managements. Er st
 udierte u. a. an der Anton Bruckner Privatuniversität in Linz\, wo er 201
 4 sein Kontrabass-Studium mit Auszeichnung abschloss. Er ist Preisträger
  des Amadeus Austrian Music Award 2023 und des Deutschen Jazzpreises 2021 
 und wurde 2019 mit dem Jazz-Stern der Münchner Abendzeitung ausgezeichnet
 .\n\nPhilip Yaeger zog nach seinem Bachelor-Studium an der William Paterso
 n University in New Jersey nach New York City – direkt in den Dunstkreis
  der experimentierfreudigen "Downtown-Szene" der späten 90er/frühen 2000
 er-Jahre\, angeführt von Musikern wie William Parker und Joe McPhee. Er s
 türzte sich in die freie Szene\, zwischenzeitlich tourte er quer durch di
 e USA und Kanada mit der Pop-Band "Elwood". 2002 zog er weiter nach Philad
 elphia\, spielte u.a. mit der hochkarätigen Afro-Pop-Band "Panjea" und na
 hm an der West Philadelphia DIY-Musikszene teil. Seit 2004 lebt und arbeit
 et er in Wien.\n\nAnmeldung unter https://secure.dialog-mail.de/pf/510/xBj
 CA\n\n++++\n\n
CATEGORIES:Workshops
LOCATION:mica - music austria\, Stiftgasse 29\, Wien\, Wien\, 1070\, Öster
 reich
GEO:48.2031848;16.354097599999932
X-APPLE-STRUCTURED-LOCATION;VALUE=URI;X-ADDRESS=Stiftgasse 29\, Wien\, Wien
 \, 1070\, Österreich;X-APPLE-RADIUS=100;X-TITLE=mica - music austria:geo:
 48.2031848,16.354097599999932
END:VEVENT
BEGIN:VTIMEZONE
TZID:Europe/Vienna
X-LIC-LOCATION:Europe/Vienna
BEGIN:DAYLIGHT
DTSTART:20250330T030000
TZOFFSETFROM:+0100
TZOFFSETTO:+0200
TZNAME:CEST
END:DAYLIGHT
END:VTIMEZONE
END:VCALENDAR