BEGIN:VCALENDAR
VERSION:2.0
PRODID:-//wp-events-plugin.com//7.2.3.1//EN
TZID:Europe/Vienna
X-WR-TIMEZONE:Europe/Vienna
BEGIN:VEVENT
UID:19705@musicaustria.at
DTSTART;TZID=Europe/Vienna:20241213T173000
DTEND;TZID=Europe/Vienna:20241213T173000
DTSTAMP:20241203T083548Z
URL:https://www.musicaustria.at/veranstaltungen/workshop-foerderlandschaft
 -in-oesterreich-wo-reiche-ich-wie-ein-servicestelle-tirol/
SUMMARY:Workshop: Förderlandschaft in Österreich – Wo reiche ich wie ei
 n? (Servicestelle Tirol)
DESCRIPTION:Als aufstrebende Künstler:in oder Band eine seriöse Veröffen
 tlichung ohne die Unterstützung der öffentlichen Hand durchzuführen ist
  beinahe ein Ding der Unmöglichkeit. Zu hoch ist der Finanzierungsbedarf\
 , um alle Kosten einer professionellen Veröffentlichung aus eigener Tasch
 e zu stemmen. Hier kommt das österreichische Förderwesen und dessen Viel
 zahl an Förderstellen und Modellen ins Spiel.\n\nInhalt: Dieser Workshop 
 bietet einen Überblick über die gängigsten Förderprodukte und deren Mo
 delle. Erläutert allgemeine Funktionsweisen und Abläufe der Einreichverf
 ahren und erklärt dir warum es grundsätzlich wichtig ist eine Förderung
  zu beantragen.\n\nIm Anschluss laden wir dich ein\, um mit uns gemeinsam 
 auf das sich dem Ende neigende erste Jahr der mica – music austria Servi
 cestelle Tirol und des Musikbüro Tirol anzustoßen!\n\n+++\n\nKursleitung
 : Paulina Parvanov (Österreichischer Musikfonds\, LSG Beirat\, VTMÖ)\, K
 enneth Winkler (mica – music austria Servicestelle Tirol\, Musikbüro Ti
 rol\, weyrerTon)\n\nPaulina Parvanov (Österreichischer Musikfonds\, LSG B
 eirat\, VTMÖ) stellt die verschiedenen Förderprogramme des Österreichis
 chen Musikfonds vor: Produktionsförderung\, Toursupport\, Impulsförderpr
 ogramm (im Rahmen von Austrian Music Export) und die Vermarktungsförderun
 g OMF+. Der Österreichische Musikfonds ist mit rund 2\,2 Millionen Euro j
 ährlich dotiert und damit eine der maßgeblichsten Förderstellen im Bere
 ich Musik.\n\nKenneth Winkler (mica – music austria Servicestelle Tirol\
 , Musikbüro Tirol\, weyrerTon) gibt einen Überblick über die Förderpro
 dukte in Tirol\, Eigenheiten der hießigen Kulturförderrichtlinien und de
 ren Einreichmodalitäten. Außerdem Tipps und Tricks zur Formulierung sowi
 e realistischen Budgetierung deines Förderprojekts.\n\n++++\n\nAnmeldung 
 per Mail an tirol@musicaustria.at
CATEGORIES:Workshops
LOCATION:mica - Servicestelle Tirol\, Ferdinand-Weyrer Straße 13\, Innsbru
 ck\, Tirol\, 6020\, Österreich
GEO:47.281976;11.411871
X-APPLE-STRUCTURED-LOCATION;VALUE=URI;X-ADDRESS=Ferdinand-Weyrer Straße 13
 \, Innsbruck\, Tirol\, 6020\, Österreich;X-APPLE-RADIUS=100;X-TITLE=mica 
 - Servicestelle Tirol:geo:47.281976,11.411871
END:VEVENT
BEGIN:VTIMEZONE
TZID:Europe/Vienna
X-LIC-LOCATION:Europe/Vienna
BEGIN:STANDARD
DTSTART:20241027T020000
TZOFFSETFROM:+0200
TZOFFSETTO:+0100
TZNAME:CET
END:STANDARD
END:VTIMEZONE
END:VCALENDAR