BEGIN:VCALENDAR
VERSION:2.0
PRODID:-//wp-events-plugin.com//7.2.3.1//EN
TZID:Europe/Vienna
X-WR-TIMEZONE:Europe/Vienna
BEGIN:VEVENT
UID:19695@musicaustria.at
DTSTART;TZID=Europe/Vienna:20241126T180000
DTEND;TZID=Europe/Vienna:20241126T210000
DTSTAMP:20241107T073540Z
URL:https://www.musicaustria.at/veranstaltungen/workshop-chancen-und-gefah
 ren-der-streaming-economy-eine-betrachtung-aus-sicht-von-independent-label
 s-und-self-releasing-artists-servicestelle-tirol/
SUMMARY:Workshop: Chancen und Gefahren der Streaming Economy Eine Betrachtu
 ng aus Sicht von Independent Labels und Self Releasing Artists (Serviceste
 lle Tirol)
DESCRIPTION:Streaming ist für viele Labels zur wichtigsten Einnahmequelle 
 geworden. Diese Entwicklung ist in etwa gleich schnell gekommen wie das n
 ächste 100-jährige Hochwasser.\n\nWie wirkt sich diese rasante Entwicklu
 ng auf die Erträge von Musikproduktionen aus? Sind wir zufrieden oder gib
 t es Fehlentwicklungen?\n\nPanta rhei. Wenn alles fließt\, gibt es dann a
 uch Hochwässer und ausgetrocknete Wadis? Wie kommen wir zu nachhaltig fru
 chtbaren Aulandschaften?\n\nWir werden diesen Fragen nachgehen und nicht n
 ur vermitteln\, wie die Streaming Economy heute funktioniert\, sondern auc
 h skizzieren\, was es braucht\, um faire und vielfältige Streaming-Biotop
 e für alle zu entwickeln.\n\nKursleitung: Alexander Hirschenhauser (Spre
 cher VTMÖ - Verband unabhängiger Tonträgerunternehmen\, Musikverlage un
 d MusikproduzentInnen Österreich)\n\nAnmeldung per Mail an tirol@musicaus
 tria.at
CATEGORIES:Workshops
LOCATION:mica - Servicestelle Tirol\, Ferdinand-Weyrer Straße 13\, Innsbru
 ck\, Tirol\, 6020\, Österreich
GEO:47.281976;11.411871
X-APPLE-STRUCTURED-LOCATION;VALUE=URI;X-ADDRESS=Ferdinand-Weyrer Straße 13
 \, Innsbruck\, Tirol\, 6020\, Österreich;X-APPLE-RADIUS=100;X-TITLE=mica 
 - Servicestelle Tirol:geo:47.281976,11.411871
END:VEVENT
BEGIN:VTIMEZONE
TZID:Europe/Vienna
X-LIC-LOCATION:Europe/Vienna
BEGIN:STANDARD
DTSTART:20241027T020000
TZOFFSETFROM:+0200
TZOFFSETTO:+0100
TZNAME:CET
END:STANDARD
END:VTIMEZONE
END:VCALENDAR