BEGIN:VCALENDAR
VERSION:2.0
PRODID:-//wp-events-plugin.com//7.2.3.1//EN
TZID:Europe/Vienna
X-WR-TIMEZONE:Europe/Vienna
BEGIN:VEVENT
UID:19907@musicaustria.at
DTSTART;TZID=Europe/Vienna:20250327T183000
DTEND;TZID=Europe/Vienna:20250327T193000
DTSTAMP:20241216T085733Z
URL:https://www.musicaustria.at/veranstaltungen/workshop-auskennen-im-musi
 kbusiness-feat-ariel-oehl-in-kooperation-mit-rockhouse/
SUMMARY:Workshop: Auskennen im Musikbusiness feat. Ariel Oehl (in Kooperati
 on mit Rockhouse)
DESCRIPTION:Im Rahmen der Workshop-Reihe „Auskennen im Musikbusiness“ l
 ädt Dominik Beyer von mica – music austria Ariel Oehl zu einem Gespräc
 h über seine Erfahrungen im Musikgeschäft und seine persönliche Entwick
 lung als Musiker ein. Er teilt dabei wertvolle Einblicke in seinen Arbeits
 alltag und vermittelt den Zuhörer:innen ein tiefgehendes Verständnis fü
 r mögliche Karrierewege und die damit verbundenen Herausforderungen. Dar
 über hinaus bietet dieser Workshop essenzielles rechtliches und organisat
 orisches Wissen\, das Musikschaffende für ihren Erfolg benötigen – von
  Fördermöglichkeiten und Medienpräsenz (Online\, Radio\, Print) über p
 rofessionellen Vertrieb bis hin zu sozialen Netzwerken und Plattformen fü
 r die Selbstvermarktung. Dabei werden zudem verschiedene Strategien aufgez
 eigt\, wie Musiker:innen auch mit begrenztem Budget ihre Musik erfolgreich
  eigenständig vermarkten können.\n\nModeration: Dominik Beyer\n\nVerbind
 liche Anmeldung unter academy@rockhouse.at wegen begrenzter Teilnehmer:inn
 enzahl. Der Workshop ist kostenlos.\n\n++++\n\nÜber Oehl:\n\nOehl\, die 5
 -köpfige Liveband um Sänger Ariel Oehl\, schmeißt eine Party\, die Tour
  der guten Hoffnung. Und wie bei jedem ordentlichen Festakt darf auch bei 
 den Shows von Oehl mitgegröhlt\, geschwitzt und getanzt werden\, in ruhig
 en Momenten\, etwa dem Akustik-Set\, allerdings auch feuchte Augen servier
 t und das ein oder andere Tränchen vergossen werden.„Männer weinen Hei
 mlich“ singt Herbert Grönemeyer 1984 im Song Männer. Nicht so Ariel Oe
 hl\, der Sänger und Songwriter. Ariel zeigt seine Gefühle auf mittlerwei
 le drei Platten\, im monatlichen Newsletter\, auf Instagram\, auf der Büh
 ne. Seine Lieder gehen tief unter die Haut und sind dabei alles andere als
  gefühlsduselig. Sie verhandeln die großen Themen der Gesellschaft und w
 erden auf treibenden Beats serviert\, mit lebendigen Bass-Lines und einer 
 Sanftmut\, die im deutschsprachigen Indiepop ihresgleichen sucht. Die Musi
 k von Oehl ist schwer und leicht zugleich\, eine Summe von Gegensätzen\, 
 die in der Musik zusammenkommt und sich\, wie man in Österreich sagt\, ga
 nz selbstverständlich „ausgeht“. Oehl ist seit 2019 bei Grönemeyers 
 Label Grönland unter Vertrag und hat dort nach „Über Nacht“ (2020) u
 nd „100% Hoffnung“ (2021) im Jahr 2022 auch das Album „Keine Blumen
 “ veröffentlicht. 2023 rundet Oehl mit der Single “Die Arbeit des Fr
 ühlings” ab\, welche\, zusammen mit ihrem Booking beim FM4 Geburtstagsf
 est\, auf den Start einer neuen Kampagne spekulieren lässt. Die Zeit atte
 stiert: „Poppig ja\, aber unverbraucht“. Der Musiker Caspar\, der Oehl
 ’s Song Keramik schon 2018 als Song des Jahres betitelte\, nennt Oehl sc
 hlichtweg eine Mischung aus Tame Impala und Tocotronic. Eindrücke der Kei
 ne Blumen Tour 2022 gibt’s im offiziellen Tourfilm „SO SCHÖN WIE ES N
 IEMALS WAR“ von Regisseur Alex Lazarov (10min\, Youtube). Anspieltipps: 
 Keramik\, Satt Werden\, Keine Angst.
CATEGORIES:Workshops
LOCATION:Rockhouse Salzburg / Seminarraum\, Schallmooser Hauptstraße 46\, 
 Salzburg\, Salzburg\, 5020\, Österreich
GEO:47.806887;13.058917
X-APPLE-STRUCTURED-LOCATION;VALUE=URI;X-ADDRESS=Schallmooser Hauptstraße 4
 6\, Salzburg\, Salzburg\, 5020\, Österreich;X-APPLE-RADIUS=100;X-TITLE=Ro
 ckhouse Salzburg / Seminarraum:geo:47.806887,13.058917
END:VEVENT
BEGIN:VTIMEZONE
TZID:Europe/Vienna
X-LIC-LOCATION:Europe/Vienna
BEGIN:STANDARD
DTSTART:20241027T020000
TZOFFSETFROM:+0200
TZOFFSETTO:+0100
TZNAME:CET
END:STANDARD
END:VTIMEZONE
END:VCALENDAR