BEGIN:VCALENDAR
VERSION:2.0
PRODID:-//wp-events-plugin.com//7.2.3.1//EN
TZID:Europe/Vienna
X-WR-TIMEZONE:Europe/Vienna
BEGIN:VEVENT
UID:19694@musicaustria.at
DTSTART;TZID=Europe/Vienna:20241204T150000
DTEND;TZID=Europe/Vienna:20241204T160000
DTSTAMP:20241122T084213Z
URL:https://www.musicaustria.at/veranstaltungen/workshop-akm-informationsv
 eranstaltung/
SUMMARY:Workshop: AKM-Informationsveranstaltung
DESCRIPTION:Die AKM stellt sich vor\n\nIn diesem Workshop machen wir einen 
 Deep Dive in die AKM und beleuchten die Organisationsstruktur sowie die Au
 fgaben der verschiedenen Gremien. Wie werden Entscheidungen getroffen bzw.
  auf welcher Grundlage basieren diese Entscheidungen? Wir sehen uns versch
 iedene Prozesse in der Erfassung von Musikstücken und der Abrechnung an u
 nd beantworten gerne die Fragen der Teilnehmenden. Konkrete Beispiele werd
 en mitgebracht.\n\nZielgruppe: AKM-Mitglieder sowie interessierte Musiksch
 affende bzw. Urheber:innen\n\n&nbsp\;\n\nWann? Mittwoch\, 04.12.2024 von 1
 5:00  - 16:00 Uhr\n\nWo? Zoom Webinar\, der Teilnahmelink wird nach erfol
 greicher Anmeldung verschickt\n\nVerbindliche Anmeldung für den Workshop 
 unter https://secure.dialog-mail.de/pf/510/tS9ZT\n\nKursleitung: Susanne 
 Lontzen (AKM)\, Sabine Reiter (mica – music austria)\n\n&nbsp\;\n\nDas Z
 oom Webinar findet in Kooperation mit der AKM statt.
CATEGORIES:Workshops
END:VEVENT
BEGIN:VTIMEZONE
TZID:Europe/Vienna
X-LIC-LOCATION:Europe/Vienna
BEGIN:STANDARD
DTSTART:20241027T020000
TZOFFSETFROM:+0200
TZOFFSETTO:+0100
TZNAME:CET
END:STANDARD
END:VTIMEZONE
END:VCALENDAR