BEGIN:VCALENDAR
VERSION:2.0
PRODID:-//wp-events-plugin.com//7.2.3.1//EN
TZID:Europe/Vienna
X-WR-TIMEZONE:Europe/Vienna
BEGIN:VEVENT
UID:22101@musicaustria.at
DTSTART;TZID=Europe/Vienna:20260528T203000
DTEND;TZID=Europe/Vienna:20260528T203000
DTSTAMP:20260424T125512Z
URL:https://www.musicaustria.at/veranstaltungen/wolfgang-puschnig-jamaalad
 een-tacuma-gemini-gemini/
SUMMARY:Wolfgang Puschnig & Jamaaladeen Tacuma 'Gemini Gemini+'
DESCRIPTION:\n\nWolfgang Puschnig: alto saxophone\, flute\nJamaaladeen Tacu
 ma: bass\nReinhardt Winkler: drums\n\nGemini-Gemini wurde nach einer Idee 
 von Jamaaladeen Tacuma in den Neunzigerjahren gegründet. Nachdem Tacuma u
 nd Puschnig in einigen Projekten zusammengearbeitet hatten\, beschlossen s
 ie\, den musikalischen Ausdruck auf die grundlegende Form des Duos zu redu
 zieren und nur mit Bass und Saxophon zu arbeiten. Nach einigen Tourneen be
 schlossen sie einen Drummer hinzuzufügen um die Energetik etwas zu erweit
 ern. Sie spielten mit Musikern aus Philadelphia\, zuerst mit Dennis Alston
  und später noch mit Adam Guth quer durch Europa verschiedene Programme a
 us eigener Feder und eines mit Kompositionen von Thelonious Monk. Dies ist
  auf drei CDs dokumentiert: „Gemini-Gemini“\, „The Flavours Of Th.Mo
 nk“ und „Journey Into The Gemini Territory“. Nach vielen unterschied
 lichen Projekten (einzeln wie auch gemeinsam) waren sie einige Jahre spät
 er nochmals im Duo unterwegs. Jetzt gibt es eine Reminiszenz an diese geme
 insamen Zeiten mit Reinhardt Winkler an den Drums\, ein Musiker der sie au
 ch schon bei anderen Unternehmungen unterstützte. „Gemini-Gemini“ ste
 ht für die Sternzeichen der Protagonisten\, das + für den Drummer. (Pres
 setext)\n\n\nhttps://www.puschnig.com/\nfhttps://jamaaladeenmusic.com/\nht
 tps://www.instagram.com/reinhardt.winkler/
CATEGORIES:Events
LOCATION:Porgy & Bess\, Riemergasse 11\, Wien\, Wien\, 1010\, Österreich
GEO:48.206833;16.37664
X-APPLE-STRUCTURED-LOCATION;VALUE=URI;X-ADDRESS=Riemergasse 11\, Wien\, Wie
 n\, 1010\, Österreich;X-APPLE-RADIUS=100;X-TITLE=Porgy & Bess:geo:48.2068
 33,16.37664
END:VEVENT
BEGIN:VTIMEZONE
TZID:Europe/Vienna
X-LIC-LOCATION:Europe/Vienna
BEGIN:DAYLIGHT
DTSTART:20260329T030000
TZOFFSETFROM:+0100
TZOFFSETTO:+0200
TZNAME:CEST
END:DAYLIGHT
END:VTIMEZONE
END:VCALENDAR