BEGIN:VCALENDAR
VERSION:2.0
PRODID:-//wp-events-plugin.com//7.2.3.1//EN
TZID:Europe/Vienna
X-WR-TIMEZONE:Europe/Vienna
BEGIN:VEVENT
UID:22102@musicaustria.at
DTSTART;TZID=Europe/Vienna:20260530T203000
DTEND;TZID=Europe/Vienna:20260530T203000
DTSTAMP:20260424T125617Z
URL:https://www.musicaustria.at/veranstaltungen/wickerl-adam-hallucination
 -company/
SUMMARY:Wickerl Adam & Hallucination Company
DESCRIPTION:\n\nWickerl Adam: master of ceremony\, voice\nBella Wagner\, Pe
 ter Dürr: vocals\nMarkus Bratusa: guitar\, vocals\nAndy Nacht: keyboards\
 , vocals\nRobert Hafner: bass\, vocals\nSiggi Meier: drums\, vocals\n\nEs 
 „halluziniert“ weiter. Beim Durchforsten meiner Pattensammlung dachte 
 ich an die Anfänge. „How ever ich will noch ein Programm machen“. So 
 entstand in mir das Programm „Remember these days“. Die wunderbaren Mu
 siker und Sänger:innen der „Hallucination Company“ sagten Ja und so i
 nterpretieren wir ausschließlich Songs der 1966 &amp\; 67er\, die Wickerl
  Adam damals live zum Besten gab. Wir genießen Songs von Van Morrison\, P
 retty Things\, Eric Burdon\, Wilson Picket\, Sam &amp\; Dave\, Aretha Fran
 klin u.s.w. Eine musikalische Reise für Jung und Alt durch deinen Teil de
 r 1960er. Wer Lust hat trägt Bekleidung der Vergangenheit (Glockenhosen\,
  Rüschenhemd ...). Das gesamte Programm in üblicher H.C. Qualität. The 
 heat is on the beat goes on! Die Jungen erfahren\, die Alten erinnern... (
 Wickerl Adam)\n\n\nhttps://www.facebook.com/wickerl.adam.5103
CATEGORIES:Events
LOCATION:Porgy & Bess\, Riemergasse 11\, Wien\, Wien\, 1010\, Österreich
GEO:48.206833;16.37664
X-APPLE-STRUCTURED-LOCATION;VALUE=URI;X-ADDRESS=Riemergasse 11\, Wien\, Wie
 n\, 1010\, Österreich;X-APPLE-RADIUS=100;X-TITLE=Porgy & Bess:geo:48.2068
 33,16.37664
END:VEVENT
BEGIN:VTIMEZONE
TZID:Europe/Vienna
X-LIC-LOCATION:Europe/Vienna
BEGIN:DAYLIGHT
DTSTART:20260329T030000
TZOFFSETFROM:+0100
TZOFFSETTO:+0200
TZNAME:CEST
END:DAYLIGHT
END:VTIMEZONE
END:VCALENDAR