BEGIN:VCALENDAR
VERSION:2.0
PRODID:-//wp-events-plugin.com//7.2.3.1//EN
TZID:Europe/Vienna
X-WR-TIMEZONE:Europe/Vienna
BEGIN:VEVENT
UID:21994@musicaustria.at
DTSTART;TZID=Europe/Vienna:20260424T203000
DTEND;TZID=Europe/Vienna:20260424T203000
DTSTAMP:20260331T131551Z
URL:https://www.musicaustria.at/veranstaltungen/wellbehaved-aqualine/
SUMMARY:WELLBEHAVED / AQUALINE
DESCRIPTION:WELLBEHAVED is a Vienna-based\, genre-blending project operatin
 g at the intersection of hip hop\, indie and pop\, infused with strong inf
 luences from jazz and soul. With a sharp sense for groove\, texture and co
 ntrast\, the band creates a sound that feels both contemporary and timeles
 s — rhythm-driven\, playful and subtly experimental.\nThe band has quick
 ly gained attention through energetic live performances\, recently support
 ing acts such as Gotts Street Park\, Buntspecht and Freekind\, selling out
  Vienna’s Radiokulturhaus\, and recording a live session in Amsterdam. F
 ollowing three releases\, Wellbehaved will unveil their debut EP Well Well
  Well in 2026.\nwww.instagram.com/wellbehaved.mp3/?hl=en\nwww.youtube.com/
 @WellBehaved.mp3\n\nAQUALINE\nGuildford\, UK based alternative rock five-p
 iece Aqualine are rolling into 2026 supporting their new EP\, Tripwire. Fu
 sing post-punk aggression\, grunge\, ethereal shoegaze with bold experimen
 tal flourishes\, the band explores themes of mental stability\, disassocia
 tion\, and the quiet weight of imposter syndrome. As the band are finishin
 g the last stages of their debut Album\, amongst touring\, they are set to
  release a collection of singles with an EP over the course of this year.\
 nwww.instagram.com/_aqualine/?hl=en\nwww.youtube.com/@aqualine1817
CATEGORIES:Events
LOCATION:Chelsea\, Lerchenfelder Gürtel / U-Bahnbögen 29-30\, Wien\, Wien
 \, 1080\, Österreich
GEO:48.21004;16.347007
X-APPLE-STRUCTURED-LOCATION;VALUE=URI;X-ADDRESS=Lerchenfelder Gürtel / U-B
 ahnbögen 29-30\, Wien\, Wien\, 1080\, Österreich;X-APPLE-RADIUS=100;X-TI
 TLE=Chelsea:geo:48.21004,16.347007
END:VEVENT
BEGIN:VTIMEZONE
TZID:Europe/Vienna
X-LIC-LOCATION:Europe/Vienna
BEGIN:DAYLIGHT
DTSTART:20260329T030000
TZOFFSETFROM:+0100
TZOFFSETTO:+0200
TZNAME:CEST
END:DAYLIGHT
END:VTIMEZONE
END:VCALENDAR