BEGIN:VCALENDAR
VERSION:2.0
PRODID:-//wp-events-plugin.com//7.2.3.1//EN
TZID:Europe/Vienna
X-WR-TIMEZONE:Europe/Vienna
BEGIN:VEVENT
UID:16643@musicaustria.at
DTSTART;TZID=Europe/Vienna:20230606T100000
DTEND;TZID=Europe/Vienna:20230606T130000
DTSTAMP:20230606T071508Z
URL:https://www.musicaustria.at/veranstaltungen/webinar-bridging-the-gap-f
 rom-stem-to-steam-with-aleksandra-bajde/
SUMMARY:Webinar: Bridging the Gap – “From STEM to STEAM” with Aleksan
 dra Bajde (ERSATZTERMIN)
DESCRIPTION:Im Webinar "From STEM to STEAM" (in englischer Sprache) zeigt A
 leksandra Bajde\, wie die Künste die STEM-Fächer (Science\, Technology\,
  Engineering\, Mathematics) bereichern können. Künstlerische Methoden un
 d Perspektiven können eine treibende Kraft für interdisziplinäre Projek
 tteams sein\, um eine gemeinsame Sprache zu entwickeln\, die zu neuen Erke
 nntnissen und Perspektiven führen kann.\n\n"From STEM to STEAM" is about 
 how "STEM disciplines" (Science\, Technology\, Engineering\, Mathematics) 
 can be enriched by the Arts: how artistic methods and perspectives can be 
 a driving force for interdisciplinary project teams to develop a common la
 nguage that at best enables new insights and perspectives.\n\nOur webinar 
 Bridging the Gap with Aleksandra Bajde intends to bring together scientist
 s\, artists and others from the partner institutions of the WTZ Ost and We
 st*. First\, there will be an interactive introductory session on the noti
 on of interdisciplinarity and its potentials followed by breakout sessions
  which will focus on the exchange between participants from different disc
 iplines.\n\nThe webinar will be held in English and is open to a maximum o
 f 12 participants.\n\nParticipants are welcome to suggest ideas to be disc
 ussed during the breakout sessions.\n\nRegistration is open until April 25
 th\, 2023.\n\nAleksandra Bajde is the Founding Director of the Culture and
  Sustainability Lab\, a composer-performer\, lecturer at the mdw and a PhD
  candidate in political science at the University of Vienna. She is commit
 ted to sustainable development\, interdisciplinary and cross-sector collab
 oration\, and social change.\n\nWe look forward to an enriching and collab
 orative experience!\n\n*partner institutions „From STEM to STEAM“: Aka
 demie der bildenden Künste Wien\, FH Campus Wien\, FH St. Pölten\, Johan
 nes Kepler Universität Linz\, Kunstuniversität Linz\, mdw – Universit
 ät für Musik und darstellende Kunst Wien\, Universität Innsbruck\, Univ
 ersität Mozarteum Salzburg\, WU – Wirtschaftsuniversität Wien\n\nThe w
 ebinar is a cooperation with mica - music austria.\n\nThe WTZ is funded by
  aws\, with funds from the National Foundation for Research\, Technology a
 nd Development (Austria Fund).
CATEGORIES:Workshops
END:VEVENT
BEGIN:VTIMEZONE
TZID:Europe/Vienna
X-LIC-LOCATION:Europe/Vienna
BEGIN:DAYLIGHT
DTSTART:20230326T030000
TZOFFSETFROM:+0100
TZOFFSETTO:+0200
TZNAME:CEST
END:DAYLIGHT
END:VTIMEZONE
END:VCALENDAR