BEGIN:VCALENDAR
VERSION:2.0
PRODID:-//wp-events-plugin.com//7.2.3.1//EN
TZID:Europe/Vienna
X-WR-TIMEZONE:Europe/Vienna
BEGIN:VEVENT
UID:22077@musicaustria.at
DTSTART;TZID=Europe/Vienna:20260611T140000
DTEND;TZID=Europe/Vienna:20260611T180000
DTSTAMP:20260422T133022Z
URL:https://www.musicaustria.at/veranstaltungen/was-ist-dein-warum-worksho
 p-zur-karrierestrategie-teil-2-praesenzworkshop/
SUMMARY:Was ist dein Warum? Workshop zur Karrierestrategie - Teil 2 (Präse
 nzworkshop)
DESCRIPTION:Dein innerer Antrieb als Basis für eine erfüllende und nachha
 ltige Karriere!\nEs gibt da dieses eine Wort\, das im Zusammenhang künstl
 erischer Karrieren immer wieder auftaucht: Authentizität. Aber was heißt
  das eigentlich? Das alles\, was wir sagen und tun\, zeigt\, wofür wir st
 ehen und woran wir glauben. Gleichzeitig ist dieses authentisch sein die G
 rundlage für den Aufbau von Beziehungen – denn wer von uns will schon i
 n eine Beziehung zu Menschen investieren\, denen wir nicht vertrauen könn
 en? Vertrauen wiederum entsteht\, wenn unsere Überzeugungen mit denen and
 erer Menschen übereinstimmen. Und woran erkennen wir das? An ihren Worten
  und Taten. Was bedeutet das nun für die künstlerische Karriere?\nDass u
 nser individueller Antrieb - warum wir tun\, was wir tun - die Basis für 
 alle Entscheidungen sein sollte. Dass wir aus diesem persönlichen Warum u
 nsere Ziele\, unsere Artistidentität (von den Werten bis zu den Visuals)\
 , unsere Kommunikations- und Marketingstrategie sowie unsere Maßnahmen zu
 m Community-building entwickeln können. Um unsere Karriere erfüllter\, g
 esünder und nachhaltiger zu bestreiten.\nZwei Module werden dieses Thema 
 ausführlich behandeln:\n\n\n 	Online-Präsentation  (3.6.\, online)\n 	P
 räsenz-Workshop (11.6.\, mica\, Wien)\n\nDie Online-Präsentation vermitt
 elt die Grundlagen:\n\n\n 	Wie genau wirkt sich das eigene Warum auf unser
 e Entscheidungen und Ziele aus?\n 	Was bedeutet das für Fans\, Kommunikat
 ion und Marketing?\n 	Wie können wir daraus eine ganzheitliche Strategie 
 für eine nachhaltige Karriere entwickeln?\n\nIm Präsenz-Workshop widmen 
 wir uns dann zuerst deinem ganz persönlichen Warum und entwickeln daraus 
 deine Artistidentität (weiter). Im zweiten Teil konzentrieren wir uns dan
 n auf die Kommunikation und wie wir das zuvor erarbeitete in den Kontext d
 einer Zielgruppe setzen können. Damit Vertrauen entsteht und die Beziehun
 gen wachsen\, die deine Karriere tragen.\n&nbsp\;\nVortragender: Christoph
  Hallerberg von Backseat\n&nbsp\;\n\nChristoph Hallerberg widmet sich seit
  über 10 Jahren der Wechselwirkung von Musik\, Kommunikation und Gemeinsc
 haft. Mit umfangreicher Erfahrung im Artist- und Produktmanagement leitet 
 er PR-Kampagnen für Acts wie girl in red\, Philine Sonny\, UCHE YARA oder
  Bilderbuch. Durch systemisches Coaching stärkt er Artists beim Auf- und 
 Ausbau der Beziehung zu sich selbst und anderen - für eine selbstbestimmt
 e Karriere.\n\nBackseat ist eine unabhängige\, in Hamburg ansässige Musi
 kagentur\, die 2017 von Sebastian Król und Arne Thamer gegründet wurde. 
 Bei Backseat werden individuelle PR-Kampagnen zu Veröffentlichungen unter
 schiedlichster Artists und Genres entwickelt. Dabei deckt man alle klassis
 chen Medienfelder (Radio / Print / Online / TV) in Deutschland\, Österrei
 ch und der Schweiz ab. Derzeit werden unter anderem folgende Künstler*inn
 en betreut: Bilderbuch\, Ane Brun\, Black Sea Dahu\, Jordan Mackampa\, UCH
 E YARA\, DOTA\, spill tab\, Max Prosa\, Grandaddy\, Beharie\, Steintor Her
 renchor\, Steiner &amp\; Madlaina\, Jan Plewka\, Sharktank u.v.w.\n\nNeben
  der PR-Tätigkeit wird auch ein eigenes Label betrieben. Zusammen mit The
  Orchard als Vertriebspartner können wir Backseat-Veröffentlichungen wel
 tweit vertreiben. Bisher haben wir Musik folgender Artists auf Backseat ve
 röffentlicht: Ami Warning\, Betti Kruse\, Marla Moya\, Karl die Große\, 
 C'est Karma\, GINA ÉTÉ\, Roosmarijn\, Soeckers\, Signe Marie Rustad\, Kl
 iffs\, Ian Fisher\, Carnival Youth\, BRTHR\, Noth\, The Bland\, DI-RECT\, 
 Jonas Alaska\, Of The Valley\, Albert Luxus\, Jo Goes Hunting\, Penny Poli
 ce\, I'm Not a Blonde\, Native\, Brett Newski\, Grapell\, Martin Baltser\,
  Cub &amp\; Wolf\, Big Fox\, Michael Moravek\, Peter Piek &amp\; Karwendel
 .\n\nBackseat betreut das Musikbooking für das NORDEN Festival in Schlesw
 ig. 2021 haben Sebastian Król und Arne Thamer auch die Fanklub Music FKM 
 GmbH gegründet\, eine neue Plattform für Bands und Fans: fanklub.com. Im
  Juni 2025 feierte das\, von Sebastian Król und Wiebke Kruse initiierte\,
  Hamburger Clubfestival Klangkosmos Premiere. Als interdisziplinäre Ergä
 nzung zu den Hauptgeschäftsfeldern wird auch der Bereich Coaching und Con
 sulting ausgebaut.\n\n&nbsp\;\n\nDie Teilnahme ist kostenlos. Die Teilnehm
 er:innenzahl ist begrenzt\, deshalb verbindliche Anmeldung unter:\n\nAnmel
 de-Link folgt!\n\n&nbsp\;\n\nTeilnehmer:innen bekommen nach der Anmeldung 
 automatisch eine Bestätigung und den Zoom Link geschickt.\n\n++++
CATEGORIES:Workshops
END:VEVENT
BEGIN:VTIMEZONE
TZID:Europe/Vienna
X-LIC-LOCATION:Europe/Vienna
BEGIN:DAYLIGHT
DTSTART:20260329T030000
TZOFFSETFROM:+0100
TZOFFSETTO:+0200
TZNAME:CEST
END:DAYLIGHT
END:VTIMEZONE
END:VCALENDAR