BEGIN:VCALENDAR
VERSION:2.0
PRODID:-//wp-events-plugin.com//7.2.3.1//EN
TZID:Europe/Vienna
X-WR-TIMEZONE:Europe/Vienna
BEGIN:VEVENT
UID:22076@musicaustria.at
DTSTART;TZID=Europe/Vienna:20260603T140000
DTEND;TZID=Europe/Vienna:20260603T150000
DTSTAMP:20260422T130951Z
URL:https://www.musicaustria.at/veranstaltungen/was-ist-dein-warum-worksho
 p-zur-karrierestrategie-teil-1-onlinepraesentation/
SUMMARY:Was ist dein Warum? Workshop zur Karrierestrategie - Teil 1 (Online
 präsentation)
DESCRIPTION:Dein innerer Antrieb als Basis für eine erfüllende und nachha
 ltige Karriere!\nEs gibt da dieses eine Wort\, das im Zusammenhang künstl
 erischer Karrieren immer wieder auftaucht: Authentizität. Aber was heißt
  das eigentlich? Das alles\, was wir sagen und tun\, zeigt\, wofür wir st
 ehen und woran wir glauben. Gleichzeitig ist dieses authentisch sein die G
 rundlage für den Aufbau von Beziehungen – denn wer von uns will schon i
 n eine Beziehung zu Menschen investieren\, denen wir nicht vertrauen könn
 en? Vertrauen wiederum entsteht\, wenn unsere Überzeugungen mit denen and
 erer Menschen übereinstimmen. Und woran erkennen wir das? An ihren Worten
  und Taten. Was bedeutet das nun für die künstlerische Karriere?\nDass u
 nser individueller Antrieb - warum wir tun\, was wir tun - die Basis für 
 alle Entscheidungen sein sollte. Dass wir aus diesem persönlichen Warum u
 nsere Ziele\, unsere Artistidentität (von den Werten bis zu den Visuals)\
 , unsere Kommunikations- und Marketingstrategie sowie unsere Maßnahmen zu
 m Community-building entwickeln können. Um unsere Karriere erfüllter\, g
 esünder und nachhaltiger zu bestreiten.\nZwei Module werden dieses Thema 
 ausführlich behandeln:\n\n\n 	Online-Präsentation  (3.6.\, online)\n 	P
 räsenz-Workshop (11.6.\, mica\, Wien)\n\nDie Online-Präsentation vermitt
 elt die Grundlagen:\n\n\n 	Wie genau wirkt sich das eigene Warum auf unser
 e Entscheidungen und Ziele aus?\n 	Was bedeutet das für Fans\, Kommunikat
 ion und Marketing?\n 	Wie können wir daraus eine ganzheitliche Strategie 
 für eine nachhaltige Karriere entwickeln?\n\nIm Präsenz-Workshop widmen 
 wir uns dann zuerst deinem Warum und entwickeln daraus deine Artistidentit
 ät (weiter). Im zweiten Teil konzentrieren wir uns dann auf die Kommunika
 tion und wie wir das zuvor erarbeitete in den Kontext deiner Zielgruppe se
 tzen können. Damit Vertrauen entsteht und die Beziehungen wachsen\, die d
 eine Karriere tragen.\nVortragender: Christoph Hallerberg von Backseat\n&n
 bsp\;\n\nChristoph Hallerberg widmet sich seit über 10 Jahren der Wechsel
 wirkung von Musik\, Kommunikation und Gemeinschaft. Mit umfangreicher Erfa
 hrung im Artist- und Produktmanagement leitet er PR-Kampagnen für Acts wi
 e girl in red\, Philine Sonny\, UCHE YARA oder Bilderbuch. Durch systemisc
 hes Coaching stärkt er Artists beim Auf- und Ausbau der Beziehung zu sich
  selbst und anderen - für eine selbstbestimmte Karriere.\n\nBackseat ist 
 eine unabhängige\, in Hamburg ansässige Musikagentur\, die 2017 von Seba
 stian Król und Arne Thamer gegründet wurde. Bei Backseat werden individu
 elle PR-Kampagnen zu Veröffentlichungen unterschiedlichster Artists und G
 enres entwickelt. Dabei deckt man alle klassischen Medienfelder (Radio / P
 rint / Online / TV) in Deutschland\, Österreich und der Schweiz ab. Derze
 it werden unter anderem folgende Künstler*innen betreut: Bilderbuch\, Ane
  Brun\, Black Sea Dahu\, Jordan Mackampa\, UCHE YARA\, DOTA\, spill tab\, 
 Max Prosa\, Grandaddy\, Beharie\, Steintor Herrenchor\, Steiner &amp\; Mad
 laina\, Jan Plewka\, Sharktank u.v.w.\n\nNeben der PR-Tätigkeit wird auch
  ein eigenes Label betrieben. Zusammen mit The Orchard als Vertriebspartne
 r können wir Backseat-Veröffentlichungen weltweit vertreiben. Bisher hab
 en wir Musik folgender Artists auf Backseat veröffentlicht: Ami Warning\,
  Betti Kruse\, Marla Moya\, Karl die Große\, C'est Karma\, GINA ÉTÉ\, R
 oosmarijn\, Soeckers\, Signe Marie Rustad\, Kliffs\, Ian Fisher\, Carnival
  Youth\, BRTHR\, Noth\, The Bland\, DI-RECT\, Jonas Alaska\, Of The Valley
 \, Albert Luxus\, Jo Goes Hunting\, Penny Police\, I'm Not a Blonde\, Nati
 ve\, Brett Newski\, Grapell\, Martin Baltser\, Cub &amp\; Wolf\, Big Fox\,
  Michael Moravek\, Peter Piek &amp\; Karwendel.\n\nBackseat betreut das Mu
 sikbooking für das NORDEN Festival in Schleswig. 2021 haben Sebastian Kr
 ól und Arne Thamer auch die Fanklub Music FKM GmbH gegründet\, eine neue
  Plattform für Bands und Fans: fanklub.com. Im Juni 2025 feierte das\, vo
 n Sebastian Król und Wiebke Kruse initiierte\, Hamburger Clubfestival Kla
 ngkosmos Premiere. Als interdisziplinäre Ergänzung zu den Hauptgeschäft
 sfeldern wird auch der Bereich Coaching und Consulting ausgebaut.\n\n&nbsp
 \;\n\nWo? Zoom-Webinar\, der Zoomlink wird nach erfolgreicher Anmeldung ve
 rschickt.\n\nAnmelde-Link folgt.
CATEGORIES:Workshops
END:VEVENT
BEGIN:VTIMEZONE
TZID:Europe/Vienna
X-LIC-LOCATION:Europe/Vienna
BEGIN:DAYLIGHT
DTSTART:20260329T030000
TZOFFSETFROM:+0100
TZOFFSETTO:+0200
TZNAME:CEST
END:DAYLIGHT
END:VTIMEZONE
END:VCALENDAR