BEGIN:VCALENDAR
VERSION:2.0
PRODID:-//wp-events-plugin.com//7.2.3.1//EN
TZID:Europe/Vienna
X-WR-TIMEZONE:Europe/Vienna
BEGIN:VEVENT
UID:21419@musicaustria.at
DTSTART;TZID=Europe/Vienna:20260411T203000
DTEND;TZID=Europe/Vienna:20260411T203000
DTSTAMP:20251205T123015Z
URL:https://www.musicaustria.at/veranstaltungen/voodoo-juergens/
SUMMARY:VOODOO JÜRGENS
DESCRIPTION:\nVoodoo Jürgens &amp\; die Ansa Panier präsentieren sich 202
 6\, rechtzeitig zum zehnjährigen Jubiläum als Live-Band revitalisiert un
 d runderneuert. Man munkelt Voodoo habe hoch im deutschen Norden an neuem 
 Material gearbeitet\, dort wo einst Heintje schon seine „Mama“ besang\
 n\n\nDie ersten drei Voodoo-Alben „Ansa Woar“\, „`s klane Glücksspi
 el“ und „Wie die Nocht noch jung wor“ sind allesamt bereits verdient
 e Klassiker des österreichischen Pops\, und gleichermaßen bilden sie ein
 e Art Sturm &amp\; Drang-Triologie des frühen Voodoo.\nNun mit Album vier
  steht eine Frischzellenkur des Sounds an\; ein Aufbruch in Sound und Visi
 on.\nAuch die lyrische Palette soll dafür erweitert werden\, das Beisl f
 ür die große Welt da draußen\, sowie die kleine Welt da drinnen\, jene 
 in der eigenen Seele\, verlassen werden. Die Band spürt dass sie ihr best
 es Album\, ihren größten Wurf in petto hat\, und so kann man sich auch e
 iniges von Voodoo und seiner Ansa Panier live anno 2026 erwarten. Treten S
 ie hervor\, kommen Sie vorbei\, hören Sie gut zu\, schauen Sie sich das a
 n\n\n\n
CATEGORIES:Events
LOCATION:Kino Ebensee\, Schulgasse 6\, Ebensee\, Oberösterreich\, 4802\, 
 Österreich
GEO:47.807431;13.774185
X-APPLE-STRUCTURED-LOCATION;VALUE=URI;X-ADDRESS=Schulgasse 6\, Ebensee\, Ob
 erösterreich\, 4802\, Österreich;X-APPLE-RADIUS=100;X-TITLE=Kino Ebensee
 :geo:47.807431,13.774185
END:VEVENT
BEGIN:VTIMEZONE
TZID:Europe/Vienna
X-LIC-LOCATION:Europe/Vienna
BEGIN:DAYLIGHT
DTSTART:20260329T030000
TZOFFSETFROM:+0100
TZOFFSETTO:+0200
TZNAME:CEST
END:DAYLIGHT
END:VTIMEZONE
END:VCALENDAR