BEGIN:VCALENDAR
VERSION:2.0
PRODID:-//wp-events-plugin.com//7.2.3.1//EN
TZID:Europe/Vienna
X-WR-TIMEZONE:Europe/Vienna
BEGIN:VEVENT
UID:22042@musicaustria.at
DTSTART;TZID=Europe/Vienna:20260925T200000
DTEND;TZID=Europe/Vienna:20260925T200000
DTSTAMP:20260408T131133Z
URL:https://www.musicaustria.at/veranstaltungen/thomas-gansch-blasmusik-su
 pergroup-blasmusik-goes-hollywood/
SUMMARY:THOMAS GANSCH BLASMUSIK SUPERGROUP - BLASMUSIK GOES HOLLYWOOD
DESCRIPTION:Blasmusik goes Hollywood\n\n“Wenn Peter O´Tooles Blick über
  die Sanddünen schweift\, wenn Clint Eastwood die Augen zu kleinen Schlit
 zen formt bevor er seinen Colt zieht\, wenn Harrison Ford den Millenium Fa
 lcon durch ein Asteroidenfeld manövriert\, dann sind es nicht nur Bilder\
 , die in unseren Köpfen entstehen\, dann schallt die dazugehörige Musik 
 auch durch unser geistiges Ohr. Wir nehmen uns in unserem neuen Programm a
 lso die großen Meister der Filmmusik vor\, von Bernhard Herrmann bis Eric
 h Wolfgang Korngold\, von Jerry Goldsmith bis Vangelis und von Ennio Morri
 cone bis John Williams. Erleben sie den unverwechselbaren Sound der Blasmu
 sik Supergroup und lassen sie sich von uns entführen\, in unendliche Weit
 en\, alte und neue Welten\, auf diesem und auf anderen Planeten!” – Th
 omas Gansch\n\nMit Musikern der Wiener Philharmoniker\, Egerländer Musika
 nten\, Mnozil Brass\, LaBrassBanda\, Da Blechhauf’n\, Kärntner Symphoni
 eorchester\, Vereinigte Bühnen Orchester:\n\nThomas Gansch – Trompete\,
  Flügelhorn\, Leitung\n\nChristoph Moschberger – Trompete\, Flügelhorn
 \nFranz Tröster – Trompete\, Flügelhorn\nJörg Brohm – Trompete\nChr
 istian Wieder – Trompete\nChristoph Haider-Kroiss – Flügelhorn\nSebas
 tian Höglauer – Flügelhorn\n\nMarkus Nentwich – Tenorhorn\nThomas Zs
 ivkovits – Tenorhorn\nDominik Stöger – Tenorhorn\nAlois Eberl – Ten
 orhorn\n\nGerhard Füßl – Posaune\nPhilipp Fellner – Posaune\nBernhar
 d Holl – Posaune\n\nMatthias Schorn – Klarinette\nJohann Hindler – K
 larinette\nMichael Gruber – Klarinette\n\nAlbert Wieder – Tuba\nStefan
  Huber – Tuba\n\nHolger Müller – Schlagzeug
CATEGORIES:Events
LOCATION:Kulturbühne Ambach\, Am Bach 10\, Götzis\, Vorarlberg\, 6840\, 
 Österreich
GEO:47.3325821;9.641092500000013
X-APPLE-STRUCTURED-LOCATION;VALUE=URI;X-ADDRESS=Am Bach 10\, Götzis\, Vora
 rlberg\, 6840\, Österreich;X-APPLE-RADIUS=100;X-TITLE=Kulturbühne Ambach
 :geo:47.3325821,9.641092500000013
END:VEVENT
BEGIN:VTIMEZONE
TZID:Europe/Vienna
X-LIC-LOCATION:Europe/Vienna
BEGIN:DAYLIGHT
DTSTART:20260329T030000
TZOFFSETFROM:+0100
TZOFFSETTO:+0200
TZNAME:CEST
END:DAYLIGHT
END:VTIMEZONE
END:VCALENDAR