BEGIN:VCALENDAR
VERSION:2.0
PRODID:-//wp-events-plugin.com//7.2.3.1//EN
TZID:Europe/Vienna
X-WR-TIMEZONE:Europe/Vienna
BEGIN:VEVENT
UID:22069@musicaustria.at
DTSTART;TZID=Europe/Vienna:20260426T183000
DTEND;TZID=Europe/Vienna:20260426T183000
DTSTAMP:20260421T124630Z
URL:https://www.musicaustria.at/veranstaltungen/thomas-gansch-blasmusik-su
 pergroup-blasmusik-goes-hollywood-2/
SUMMARY:Thomas Gansch Blasmusik Supergroup: Blasmusik goes Hollywood
DESCRIPTION:Nach überwältigender Nachfrage 2026 wieder im Programm! Wenn 
 Blasmusik zu cineastischen Höhenflügen ansetzt\, bleibt kein Ohr unberü
 hrt. Thomas Gansch und seine Supergroup lassen Filmmusik-Klassiker in neue
 m Glanz erstrahlen – virtuos\, mitreißend und voller Spielwitz.\n\nBlas
 musik erlebt seit einigen Jahrzehnten eine bemerkenswerte Renaissance. Tro
 mpeten-Mastermind Thomas Gansch ist daran nicht ganz unbeteiligt\, liefe
 rt er doch regelmäßig Blechblas-Glanzstücke zwischen technischer Perfek
 tion und humorvollem Esprit. Dass ihm der Atem noch lange nicht ausgeht\, 
 beweist Gansch nun mit seiner eigenen Blaskapelle\, der Thomas Gansch Blas
 musik Supergroup. Mit Kollegen der Egerländer Musikanten\, von Da Blechha
 uf'n\, LaBrassBanda und den Wiener Philharmonikern bläst er dem Publikum 
 nun Klassiker der Filmmusik um die Ohren. So huldigen sie im aktuellen Pro
 gramm den Großmeistern Hollywoods wie Korngold\, Morricone und John Willi
 ams.\n\nDer gebürtige St. Pöltner Thomas Gansch ist Mitbegründer von Mn
 ozil Brass und ehemaliges Mitglied des Vienna Art Orchestra. Als virtuoser
  Trompeter\, Komponist und Entertainer prägt er die Musikszene – stets 
 mit einer gelungenen Mischung aus technischer Brillanz und lebendigem Humo
 r.\n\nBESETZUNG\n\nMusiker der Wiener Philharmoniker\, Egerländer Musikan
 ten\, Mnozil Brass\, LaBrassBanda\, Da Blechhauf’n\, Kärntner Symphonie
 orchester\, Vereinigte Bühnen Orchester\n\nThomas Gansch\, Jörg Brohm\,
  Franz Tröster\, Christoph Moschberger\, Christian Wieder Trompete\, A
 lois Eberl\, Dominik Stöger\, Alexander Wurz\, Thomas Zsivkovits Tenorho
 rn\, Philipp Fellner\, Gerhard Füßl\, Bernhard Holl Posaune\, Franz Trö
 ster\, Christoph Haider-Kroiss\, Sebastian Höglauer\, Christoph Moschber
 ger Flügelhorn\, Michael Gruber\, Johann Hindler\, Matthias Schorn Klarin
 ette\, Stefan Huber\, Albert Wieder Tuba\, Holger Müller Schlagzeug.
CATEGORIES:Events
LOCATION:Festspielhaus St. Pölten\, Kulturbezirk 2\, St. Pölten\, Nieder
 österreich\, 3100\, Österreich
GEO:48.200847;15.631687
X-APPLE-STRUCTURED-LOCATION;VALUE=URI;X-ADDRESS=Kulturbezirk 2\, St. Pölte
 n\, Niederösterreich\, 3100\, Österreich;X-APPLE-RADIUS=100;X-TITLE=Fest
 spielhaus St. Pölten:geo:48.200847,15.631687
END:VEVENT
BEGIN:VTIMEZONE
TZID:Europe/Vienna
X-LIC-LOCATION:Europe/Vienna
BEGIN:DAYLIGHT
DTSTART:20260329T030000
TZOFFSETFROM:+0100
TZOFFSETTO:+0200
TZNAME:CEST
END:DAYLIGHT
END:VTIMEZONE
END:VCALENDAR