BEGIN:VCALENDAR
VERSION:2.0
PRODID:-//wp-events-plugin.com//7.2.3.1//EN
TZID:Europe/Vienna
X-WR-TIMEZONE:Europe/Vienna
BEGIN:VEVENT
UID:22096@musicaustria.at
DTSTART;TZID=Europe/Vienna:20260517T203000
DTEND;TZID=Europe/Vienna:20260517T203000
DTSTAMP:20260424T124725Z
URL:https://www.musicaustria.at/veranstaltungen/the-pb-stageband-jazzorche
 ster-vorarlberg-hermannology-feat-gerd-hermann-ortler/
SUMMARY:The P&B Stageband: Jazzorchester Vorarlberg 'Hermannology' feat. Ge
 rd Hermann Ortler
DESCRIPTION:\n\nGerd Hermann Ortler: composition\, conducting\nVeronika Sch
 ick: vocals\nMartin Franz\, Isabella Lingg\, Andreas Broger\, Anna Tsomban
 is\, Klaus Peter: reeds\nBartholomäus Natter\, Martin Eberle\, Oliver Bie
 dermann\, Christoph Sonderegger\, Thomas Liesinger: trumpets\nThomas Halfe
 r\, Phil Yaeger\, Daniel Holzleitner\, Jakob Polaschek: trombones\nChristo
 ph Ellensohn: french horn\nFilip Senoner: tuba\nDavid Soyza: vibraphone\nP
 eter Rom: guitar\nMichael Tiefenbacher: piano\nTobias Vedovelli: bass\nChr
 istian Eberle: drums\n\nMan sagt\, nichts schweißt so sehr zusammen wie e
 in gemeinsames Verbrechen. Doch ein solches war in diesem Fall glückliche
 rweise nicht nötig! Denn stattdessen verbindet mich mit dem Jazzorchester
  Vorarlberg ein waghalsiges musikalisches Abenteuer für immer: die Urau
 ﬀührung meiner ersten Symphonie „And The Moon And The Stars And The W
 orld“. Dafür ist das Jazzorchester 2014 mit dem Symphonieorchester Vora
 rlberg zu einem explosiven Klangriesen verschmolzen. Und jetzt habe ich er
 neut das große Vergnügen\, mich mit diesem unerschrockenen Jazzorchester
  auf den Weg zu machen. Im Rahmen seines 20-jährigen Jubiläums führen w
 ir nämlich mein allererstes Konzertprogramm wieder auf\, das bereits 2009
  genau hier im Porgy &amp\; Bess Premiere feierte: Ladies and Gentlemen\, 
 „Hermannology“ is back! Ich erhebe mein Glas auf das Jazzorchester Vor
 arlberg\, auf 20 Jahre erfrischendes Musizieren und auf noch viele weitere
  gemeinsame Abenteuer! (Gerd Hermann Ortler\, März 2026)\n\nDas Jazzorche
 ster Vorarlberg (JOV) wurde 2005 von Martin Eberle und Martin Franz als Bi
 g Band gegründet um der heimischen Jazz- und Improvisationsszene eine pro
 fessionelle Plattform zu bieten. Seitdem konnte sich das experimentierfreu
 dige Ensemble durch genreübergreifende Projekte\, zahlreiche Kollaboratio
 n mit international anerkannten KünstlerInnen\, Komponisten und Kollektiv
 en\, diversen CD Produktionen\, Pressestimmen und Konzerten in Österreich
 \, Deutschland sowie der Schweiz international einen Namen machen und sich
  in der österreichischen Jazzszene als professionelles Orchester etablier
 en. (Pressetext)\n\n\nhttps://www.jov.at/\nhttps://www.gerdhermannortler.c
 om/
CATEGORIES:Events
LOCATION:Porgy & Bess\, Riemergasse 11\, Wien\, Wien\, 1010\, Österreich
GEO:48.206833;16.37664
X-APPLE-STRUCTURED-LOCATION;VALUE=URI;X-ADDRESS=Riemergasse 11\, Wien\, Wie
 n\, 1010\, Österreich;X-APPLE-RADIUS=100;X-TITLE=Porgy & Bess:geo:48.2068
 33,16.37664
END:VEVENT
BEGIN:VTIMEZONE
TZID:Europe/Vienna
X-LIC-LOCATION:Europe/Vienna
BEGIN:DAYLIGHT
DTSTART:20260329T030000
TZOFFSETFROM:+0100
TZOFFSETTO:+0200
TZNAME:CEST
END:DAYLIGHT
END:VTIMEZONE
END:VCALENDAR