BEGIN:VCALENDAR
VERSION:2.0
PRODID:-//wp-events-plugin.com//7.2.3.1//EN
TZID:Europe/Vienna
X-WR-TIMEZONE:Europe/Vienna
BEGIN:VEVENT
UID:22065@musicaustria.at
DTSTART;TZID=Europe/Vienna:20260501T193000
DTEND;TZID=Europe/Vienna:20260501T193000
DTSTAMP:20260421T121404Z
URL:https://www.musicaustria.at/veranstaltungen/stubnblues-2-0-wesenheiten
 /
SUMMARY:Stubnblues 2.0: WESENHEITEN
DESCRIPTION:Vielstimmig\, dynamisch und als Kollektiv – der Stubnblues 2p
 unkt0 zeigt sich sowohl live als auch auf dem zweiten Album „Wesenheiten
 “ in frischen Klangfarben: Der Neuanfang mit Bina Blumencron (Gesang)\, 
 Marlene Lacherstorfer (Bass)\, Stefan Schubert (Gesang und Gitarren)\, Mar
 kus Marageter (Klavier und Hammondorgel)\, Hubert Hofherr (Mundharmonika u
 nd Gesang) und Camillo Jenny (Schlagwerk) ist geglückt\, weil die Band es
  schafft\, Bewährtes zu bewahren und zugleich neue Akzente zu setzen.\n\n
 Das viel beachtete Erstlingswerk „Wo da Rauch hiziagt…“ in neuer For
 mation\, mit dem die Band auch versucht hat\, den viel zu frühen Tod von 
 Willi Resetarits musikalisch zu verarbeiten\, wurde mit einer Nominierung 
 für die Amadeus Austrian Music Awards 2025 belohnt. Mit „Wesenheiten
 “ geht der Stubnblues 2punkt0 jetzt weiter\, ohne zu vergessen.\n\nZwisc
 hen Leichtigkeit und Melancholie erzählen die neuen Lieder vom Gehen und 
 vom Bleiben\, von gewählter Einsamkeit und verfehlter Zweisamkeit\, von d
 er Sehnsucht nach Verstandenwerden und dem Versuch\, sich selbst zu verste
 hen. Kleine Geschichten über die Absurditäten des Alltags\, die irgendwi
 e für alle gleich und doch ganz anders sind\, pendeln zwischen Sehnsucht 
 und Wirklichkeit. Im Paarlauf mit Dialektposie besinnt man sich musikalisc
 h wie nie zuvor auf den unverwechselbaren\, rhythmischen Sound der Kombo. 
 Entstanden ist das Werk zwischen Salzburg und Triest\, wo „Kapellmeister
 “ Stefan Schubert nicht nur seine eigenen Kompositionen feingeschliffen\
 , sondern auch die Beiträge anderer Bandmitglieder in ein stimmiges Ganze
 s gegossen hat. Live darf man sich 2026 auf die lauten und leisen Töne de
 s Lebens freuen\, wenn neue Werke auf vertraute Klassiker treffen.\n\nWeil
  nix bleibt\, wie es woa.
CATEGORIES:Events
LOCATION:Bühne im Hof (BIH)\, Linzer Strasse 18\, St. Pölten\, Niederöst
 erreich\, 3100\, St. Pölten\, Österreich
GEO:48.203049;15.622085
X-APPLE-STRUCTURED-LOCATION;VALUE=URI;X-ADDRESS=Linzer Strasse 18\, St. Pö
 lten\, Niederösterreich\, 3100\, St. Pölten\, Österreich;X-APPLE-RADIUS
 =100;X-TITLE=Bühne im Hof (BIH):geo:48.203049,15.622085
END:VEVENT
BEGIN:VTIMEZONE
TZID:Europe/Vienna
X-LIC-LOCATION:Europe/Vienna
BEGIN:DAYLIGHT
DTSTART:20260329T030000
TZOFFSETFROM:+0100
TZOFFSETTO:+0200
TZNAME:CEST
END:DAYLIGHT
END:VTIMEZONE
END:VCALENDAR