BEGIN:VCALENDAR
VERSION:2.0
PRODID:-//wp-events-plugin.com//7.2.3.1//EN
TZID:Europe/Vienna
X-WR-TIMEZONE:Europe/Vienna
BEGIN:VEVENT
UID:21259@musicaustria.at
DTSTART;TZID=Europe/Vienna:20251104T170000
DTEND;TZID=Europe/Vienna:20251104T200000
DTSTAMP:20251014T133543Z
URL:https://www.musicaustria.at/veranstaltungen/steuer-und-sozialversicher
 ung-basiswissen-online-webinar/
SUMMARY:Steuer und Sozialversicherung\, Basiswissen (Online-Webinar)
DESCRIPTION:Inhalt: \nZum Leben von Künstler_innen gehören nicht nur musi
 kalische Fähigkeiten. Abseits des kreativen Schaffens sind auch Steuern u
 nd Sozialversicherung Bestand­teile des künstlerischen Alltags. Doch ab 
 welchem Einkommen müssen Lohnsteuer und Versicherungsbeiträge einbezahlt
  werden? Wann sind Zusatzversicherungen sinnvoll? Welche Unterstützungsm
 öglich­keiten gibt es bei Versicherungszahlungen? Welche Förderungen un
 d Preise sind einkommenssteuerpflichtig? Was sind die Rahmenbedingungen un
 d Pflichten bei der Mehrwertsteuer? Brauchen Künstler_innen Registrierkas
 sen?\nIn diesem Webinar erhalten die Teilnehmenden eine Einführung in das
  allgemeine Steuerrecht für freischaffende kulturelle und künstlerische 
 Arbeit. Sie lernen die relevanten Aspekte der Sozialversicherung und mögl
 iche Unterstützungsformen kennen und beschäftigen sich mit den Besonderh
 eiten im internationalen Steuerrecht und Sozialversicherungsthemen.\nZiele
 :\n\n\n 	Berechnung der Einkommenssituation\n 	Darstellung allgemeiner Rah
 menbedingungen beim Eintritt in die Selbstständigkeit\n\nAnmeldung bis 30
 .10.2025: career@moz.ac.at\n
CATEGORIES:Workshops
END:VEVENT
BEGIN:VTIMEZONE
TZID:Europe/Vienna
X-LIC-LOCATION:Europe/Vienna
BEGIN:STANDARD
DTSTART:20251026T020000
TZOFFSETFROM:+0200
TZOFFSETTO:+0100
TZNAME:CET
END:STANDARD
END:VTIMEZONE
END:VCALENDAR