BEGIN:VCALENDAR
VERSION:2.0
PRODID:-//wp-events-plugin.com//7.2.3.1//EN
TZID:Europe/Vienna
X-WR-TIMEZONE:Europe/Vienna
BEGIN:VEVENT
UID:21780@musicaustria.at
DTSTART;TZID=Europe/Vienna:20260319T100000
DTEND;TZID=Europe/Vienna:20260319T130000
DTSTAMP:20260217T122108Z
URL:https://www.musicaustria.at/veranstaltungen/steuer-und-sozialversicher
 ung-basiswissen-inkl-kuenstler-sozialversicherungsfonds-2/
SUMMARY:Steuer und Sozialversicherung (Basiswissen) inkl. Künstler-Sozialv
 ersicherungsfonds
DESCRIPTION:Inhalt\n\nZum Leben von Musiker:innen\, Pädagog:innen oder Kom
 ponist:innen gehören nicht nur musikalische Fähigkeiten. Abseits des kre
 ativen Schaffens sind auch Steuern und Sozialversicherung Bestandteile des
  künstlerischen Alltags. Doch ab welchem Einkommen müssen Lohnsteuer und
  Versicherungsbeiträge einbezahlt werden? Welche Unterstützungsmöglichk
 eiten gibt es bei Versicherungszahlungen? Welche Förderungen und Preise s
 ind einkommenssteuerpflichtig? Was sind die Rahmenbedingungen und Pflichte
 n bei der Mehrwertsteuer? Brauchen Künstler:innen Registrierkassen?\n\nIn
  diesem Workshop erhalten die Teilnehmenden eine Einführung in das allgem
 eine Steuerrecht für freischaffende kulturelle und künstlerische Arbeit.
  Sie lernen die relevanten Aspekte der Sozialversicherung und mögliche Un
 terstützungsformen kennen und beschäftigen sich mit den Besonderheiten i
 m internationalen Steuerrecht und Sozialversicherungsthemen.\n\nWann und W
 o: 19.03.2026 - 10:00 - Reinhart-von-Gutzeit-Saal\n\nWer:\n\n 	Studierende
  und Alumnis der Anton Bruckner Privatuniversität\, sowie alle Interessie
 rten.\n 	Anmeldung erforderlich bis 17.03.2026: Angela Pari career@bruckne
 runi.at\, +43 732 701000 640 \n\nVortragende\n\n 	Antonia Grüner\, Fachr
 eferentin bei mica - music austria\n
CATEGORIES:Workshops
LOCATION:Anton Bruckner Privatuniversität Linz\, Alice-Harnoncourt-Platz 1
 \, Linz\, Oberösterreich\, 4040\, Österreich
GEO:48.311099;14.268817
X-APPLE-STRUCTURED-LOCATION;VALUE=URI;X-ADDRESS=Alice-Harnoncourt-Platz 1\,
  Linz\, Oberösterreich\, 4040\, Österreich;X-APPLE-RADIUS=100;X-TITLE=An
 ton Bruckner Privatuniversität Linz:geo:48.311099,14.268817
END:VEVENT
BEGIN:VTIMEZONE
TZID:Europe/Vienna
X-LIC-LOCATION:Europe/Vienna
BEGIN:STANDARD
DTSTART:20251026T020000
TZOFFSETFROM:+0200
TZOFFSETTO:+0100
TZNAME:CET
END:STANDARD
END:VTIMEZONE
END:VCALENDAR