BEGIN:VCALENDAR
VERSION:2.0
PRODID:-//wp-events-plugin.com//7.2.3.1//EN
TZID:Europe/Vienna
X-WR-TIMEZONE:Europe/Vienna
BEGIN:VEVENT
UID:21256@musicaustria.at
DTSTART;TZID=Europe/Vienna:20251030T090000
DTEND;TZID=Europe/Vienna:20251030T140000
DTSTAMP:20251010T114128Z
URL:https://www.musicaustria.at/veranstaltungen/steuer-und-sozialversicher
 ung-basiswissen-2/
SUMMARY:Steuer und Sozialversicherung\, Basiswissen
DESCRIPTION:Zum Leben von Künstler_innen gehören nicht nur musikalische F
 ähigkeiten. Abseits des kreativen Schaffens sind auch Steuern und Sozialv
 ersicherung Bestand­teile des künstlerischen Alltags. Doch ab welchem Ei
 nkommen müssen Lohnsteuer und Versicherungsbeiträge einbezahlt werden? W
 ann sind Zusatzversicherungen sinnvoll? Welche Unterstützungsmöglich­ke
 iten gibt es bei Versicherungszahlungen? Welche Förderungen und Preise si
 nd einkommenssteuerpflichtig? Was sind die Rahmenbedingungen und Pflichten
  bei der Mehrwertsteuer? Brauchen Künstler_innen Registrierkassen?\nIn di
 esem Webinar erhalten die Teilnehmenden eine Einführung in das allgemeine
  Steuerrecht für freischaffende kulturelle und künstlerische Arbeit. Sie
  lernen die relevanten Aspekte der Sozialversicherung und mögliche Unters
 tützungsformen kennen und beschäftigen sich mit den Besonderheiten im in
 ternationalen Steuerrecht und Sozialversicherungsthemen.\n\nZiele:\n\n\n 	
 Berechnung der Einkommenssituation\n 	Darstellung allgemeiner Rahmenbeding
 ungen beim Eintritt in die Selbstständigkeit\n\n\n \nVortragende: Antoni
 a Grüner\, Fachreferentin bei mica – music austria\n \nAnmeldung: auss
 chließlich für Studierende der mdw unter https://www.mdw.ac.at/zfw/kurse
 /
CATEGORIES:Workshops
LOCATION:spiel|mach|t|raum\, S 02 25\, mdw-Campus\, Anton-von-Webern-Platz 
 1\, Wien\, 1030\, Wien\, Österreich
GEO:48.202049;16.385654
X-APPLE-STRUCTURED-LOCATION;VALUE=URI;X-ADDRESS=Anton-von-Webern-Platz 1\, 
 Wien\, 1030\, Wien\, Österreich;X-APPLE-RADIUS=100;X-TITLE=spiel|mach|t|r
 aum\, S 02 25\, mdw-Campus:geo:48.202049,16.385654
END:VEVENT
BEGIN:VTIMEZONE
TZID:Europe/Vienna
X-LIC-LOCATION:Europe/Vienna
BEGIN:STANDARD
DTSTART:20251026T020000
TZOFFSETFROM:+0200
TZOFFSETTO:+0100
TZNAME:CET
END:STANDARD
END:VTIMEZONE
END:VCALENDAR