BEGIN:VCALENDAR
VERSION:2.0
PRODID:-//wp-events-plugin.com//7.2.3.1//EN
TZID:Europe/Vienna
X-WR-TIMEZONE:Europe/Vienna
BEGIN:VEVENT
UID:21646@musicaustria.at
DTSTART;TZID=Europe/Vienna:20261113T200000
DTEND;TZID=Europe/Vienna:20261113T200000
DTSTAMP:20260109T122404Z
URL:https://www.musicaustria.at/veranstaltungen/steaming-satellites-at/
SUMMARY:Steaming Satellites (AT)
DESCRIPTION:Nach Jahren auf der Bühne\, unzähligen Festivalauftritten und
  mehreren gefeierten Alben zählen die Steaming Satellites längst zu den 
 Fixsternen der österreichischen Musikszene.\nMit ihrem unverkennbaren Sou
 nd zwischen Indie-Rock\, Psychedelic und einem Hauch elektronischer Weite 
 hat sich die Band eine treue Fangemeinde aufgebaut – nicht nur im deutsc
 hsprachigen Raum\, sondern auch darüber hinaus.\n\nhttps://www.rockhouse.
 at/Veranstaltungen//steaming-satellites::5543
CATEGORIES:Events
LOCATION:Rockhouse\, Schallmooser Hauptstraße 46\, Salzburg\, Salzburg\, 5
 020\, Österreich
GEO:47.806921;13.058989
X-APPLE-STRUCTURED-LOCATION;VALUE=URI;X-ADDRESS=Schallmooser Hauptstraße 4
 6\, Salzburg\, Salzburg\, 5020\, Österreich;X-APPLE-RADIUS=100;X-TITLE=Ro
 ckhouse:geo:47.806921,13.058989
END:VEVENT
BEGIN:VTIMEZONE
TZID:Europe/Vienna
X-LIC-LOCATION:Europe/Vienna
BEGIN:STANDARD
DTSTART:20261025T020000
TZOFFSETFROM:+0200
TZOFFSETTO:+0100
TZNAME:CET
END:STANDARD
END:VTIMEZONE
END:VCALENDAR