BEGIN:VCALENDAR
VERSION:2.0
PRODID:-//wp-events-plugin.com//7.2.3.1//EN
TZID:Europe/Vienna
X-WR-TIMEZONE:Europe/Vienna
BEGIN:VEVENT
UID:22055@musicaustria.at
DTSTART;TZID=Europe/Vienna:20260627T190000
DTEND;TZID=Europe/Vienna:20260627T190000
DTSTAMP:20260409T133337Z
URL:https://www.musicaustria.at/veranstaltungen/so-real-surreal-nicolas-ro
 bert-lang-im-trio/
SUMMARY:“So real\, surreal!” — Nicolas Robert Lang im Trio
DESCRIPTION:In seinem Programm „So real\, surreal“ präsentiert Nicolas
  Robert Lang einen Querschnitt aus Liedern seines neuen Live-Albums „So 
 verhazen wir unsere Jugend“ und seinem vielfältigen Schaffen der letzte
 n Jahre.\n\nSo real\, surreal“ wird zu einem Abend\, der das Potential h
 at\, erschütternd\, überraschend und stimmungsvoll heiter gleichzeitig z
 u sein. Dabei Pia Dietl\, die in höchst theatralischer Weise die österre
 ichische Bundeshymne mit den dunklen Kapiteln der Geschichte verwebt\, all
 e Erwartungen sprengend.\n\nDa ist für alle was dabei! Einfach mal reinh
 ören!\n\nDie Musiker:innen bei „So real\, surreal“\nNicolas Robert La
 ng – Gitarre\, Gesang\nPia Dietl\, Kontrabass\, Gesang\nFelix Brandauer 
 – Steirische Harmonika\, Gesang
CATEGORIES:Events
LOCATION:Kolpinghaus Währing\, Gentzgasse 27\, Wien\, 1180\, Österreich
X-APPLE-STRUCTURED-LOCATION;VALUE=URI;X-ADDRESS=Gentzgasse 27\, Wien\, 1180
 \, Österreich;X-APPLE-RADIUS=100;X-TITLE=Kolpinghaus Währing:geo:0,0
END:VEVENT
BEGIN:VTIMEZONE
TZID:Europe/Vienna
X-LIC-LOCATION:Europe/Vienna
BEGIN:DAYLIGHT
DTSTART:20260329T030000
TZOFFSETFROM:+0100
TZOFFSETTO:+0200
TZNAME:CEST
END:DAYLIGHT
END:VTIMEZONE
END:VCALENDAR