BEGIN:VCALENDAR
VERSION:2.0
PRODID:-//wp-events-plugin.com//7.2.3.1//EN
TZID:Europe/Vienna
X-WR-TIMEZONE:Europe/Vienna
BEGIN:VEVENT
UID:22118@musicaustria.at
DTSTART;TZID=Europe/Vienna:20260528T193000
DTEND;TZID=Europe/Vienna:20260528T193000
DTSTAMP:20260424T132718Z
URL:https://www.musicaustria.at/veranstaltungen/sarahbernhardt-folta/
SUMMARY:SarahBernhardt / folta
DESCRIPTION:SarahBernhardt\n\nMit Harfe\, Ukulele und zwei Stimmen vertonen
  Bernhard Scheiblauer und Sarah Metzler das Erbe ihrer Mostviertler Kindhe
 it – in Liedern\, die nach kühlen Flüssen\, alten Geschichten und vert
 rauten Klängen schmecken. Sie reden nach der Schrift\, aber schreiben im 
 Dialekt: unverstellt\, ehrlich und ganz nah am Leben.\n\nIhr Debütalbum 
 „langsam wiads wos“ erschien 2020 und wurde von Profil als „vielleic
 ht die einzige Überlebensstrategie für 2020“ beschrieben. Das Lied „
 der unverblümte“ nannten die Salzburger Nachrichten „eine der schöns
 ten Liebesgeschichten\, die jemals zu einem Song wurden“.\n\n2023 folgte
  das zweite Album „Urlaub in Sepia“ – warm\, vielstimmig\, eigen.\nM
 it diesem Programm tourte „die österreichische Folk-Sensation“ (The G
 ap) quer durchs Land: vom Bahnhof Andelsbuch über die Verleihung des Öst
 erreichischen Buchpreises bis ins Wiener Konzerthaus.\n\nSarah Metzler - H
 arfe\, Stimme\, Bernhard Scheiblauer - Ukulele\, Gitarre\, Stimme\n\nfolta
 \n\n„Musik ist wie eine Falte in der Zeit und wir sind ihr Kleid.“\nIr
 ma-Maria Troy und Markus Prieth spielen sich durch die Vielfalt der Volksm
 usiken und verbinden sie mit ihren ganz eigenen Geschichten. Lust auf Klan
 g\, Lust aufs Spiel\, Lust gemeinsam das zu tun was eben nur die Musik kan
 n: der Zeit ein Falte schlagen.\n\nfolta [falten] sind schön..\n\nIrma-Ma
 ria Troy - Stimme\, Geige\, Markus Prieth - Stimme\, Bratsche\, Gitarre\, 
 Raffele
CATEGORIES:Events
LOCATION:Sargfabrik\, Goldschlagstraße 169\, Wien\, Wien\, 1140\, Österre
 ich
GEO:48.195046;16.304747
X-APPLE-STRUCTURED-LOCATION;VALUE=URI;X-ADDRESS=Goldschlagstraße 169\, Wie
 n\, Wien\, 1140\, Österreich;X-APPLE-RADIUS=100;X-TITLE=Sargfabrik:geo:48
 .195046,16.304747
END:VEVENT
BEGIN:VTIMEZONE
TZID:Europe/Vienna
X-LIC-LOCATION:Europe/Vienna
BEGIN:DAYLIGHT
DTSTART:20260329T030000
TZOFFSETFROM:+0100
TZOFFSETTO:+0200
TZNAME:CEST
END:DAYLIGHT
END:VTIMEZONE
END:VCALENDAR