BEGIN:VCALENDAR
VERSION:2.0
PRODID:-//wp-events-plugin.com//7.2.3.1//EN
TZID:Europe/Vienna
X-WR-TIMEZONE:Europe/Vienna
BEGIN:VEVENT
UID:22105@musicaustria.at
DTSTART;TZID=Europe/Vienna:20260523T200000
DTEND;TZID=Europe/Vienna:20260523T200000
DTSTAMP:20260424T130043Z
URL:https://www.musicaustria.at/veranstaltungen/salo-hardcore-ist-tot-tour
 -2026-3/
SUMMARY:SALÒ - Hardcore Ist Tot Tour 2026
DESCRIPTION:\n\n\nPop ist tot. Punk war nie zu fassen. Hardcore? Auch erled
 igt. Was bleibt\, ist SALÒ – der Anarcho-Pop-Punk-Poet aus Wien\, der m
 it emotionalem Punch und scharfer Gesellschaftskritik die Clubbühnen zum 
 Beben bringt. Nach seinem umjubelten Album ‚Problemzone Mensch‘ (Dezem
 ber 2024) kommt jetzt die nächste Eskalationsstufe: HARDCORE IST TOT TOUR
  2026 – eine Liturgie für verlorene Seelen mit Glitzer unterm Auge und 
 schwächelndem WLAN. Neue Hymnen für kaputte Herzen\, neue Looks für kap
 utte Körper. Zwischen Punk\, Electroclash und Kapitalismus-Therapie singt
  SALÒ von Liebe\, Wut und Überforderung im Jetzt. Mit süffisantem Spott
 \, bedingungsloser Selbstironie und radikaler Verletzlichkeit macht SALÒ 
 Musik für eine überreizte Generation – laut\, widerspenstig\, tanzbar 
 - und jede seiner Zeilen trifft mitten ins Herz.\n\nAuf die HARDCORE IST T
 OT TOUR 2026 kommt SALÒ mit neuem Album (VÖ: April 26) und einer exzessi
 ven Liveshow\, wütender\, lauter und intimer denn je. Die Vorab-Single 
 „JELLO BIAFRA“\, benannt nach dem legendären Dead-Kennedys-Frontman\,
  zeigt unmissverständlich wo die Reise hingeht: „Miete wird nicht teure
 r – Miete wird teurer gemacht“ – ein Satz wie eine Guillotine\, bei 
 der niemand mehr den Kopf wegziehen kann. „JELLO BIAFRA“ ist nicht blo
 ß ein Song. Es ist ein akustisches Pamphlet\, ein manifestgewordener Schl
 ag in die sterilen Flure spätkapitalistischer Mietverträge.\n\nSALÒ ist
  Pop mit Haltung\, Glamour mit Dreck\, Punk mit Synthesizer. Wer ihn live 
 erlebt\, weiß: das ist keine Show – das ist Eskalation mit Tiefgang. SA
 LÒ tanzt auf den Trümmern von Männlichkeit\, Moral und Mainstream. Er m
 acht Krach\, der bleibt.\n\n\n\n\n\n\nSALÒ ist das Alias des österreichi
 schen Musikers Andreas Binder\, der seit 2019 mit seinem kompromisslosen M
 ix aus Anarcho-Pop\, Punk\, Electroclash und Gesellschaftskritik die Bühn
 en im deutschsprachigen Raum aufmischt. Mit Songs wie „Apollonia sitzt b
 ei Edeka an der Kassa“ oder „Ich glaube nicht an Dinosaurier“ wurde 
 er schnell zur Kultfigur der Wiener Indie-Szene. Seine explosiven Liveshow
 s sind mehr Katharsis als Performance\, seine Texte ein Soundtrack für da
 s Leben zwischen Kapitalismuskritik\, Sehnsucht und Reizüberflutung. SAL
 Ò ist Musik\, die nicht gefragt werden will\, ob man sie mag\, sondern ob
  man noch wach ist.\n\n\n
CATEGORIES:Events
LOCATION:WUK Werkstätten- und Kulturhaus\, Währinger Straße 59\, Wien\, 
 Wien\, 1090\, Österreich
GEO:48.223282;16.351416
X-APPLE-STRUCTURED-LOCATION;VALUE=URI;X-ADDRESS=Währinger Straße 59\, Wie
 n\, Wien\, 1090\, Österreich;X-APPLE-RADIUS=100;X-TITLE=WUK Werkstätten-
  und Kulturhaus:geo:48.223282,16.351416
END:VEVENT
BEGIN:VTIMEZONE
TZID:Europe/Vienna
X-LIC-LOCATION:Europe/Vienna
BEGIN:DAYLIGHT
DTSTART:20260329T030000
TZOFFSETFROM:+0100
TZOFFSETTO:+0200
TZNAME:CEST
END:DAYLIGHT
END:VTIMEZONE
END:VCALENDAR