BEGIN:VCALENDAR
VERSION:2.0
PRODID:-//wp-events-plugin.com//7.2.3.1//EN
TZID:Europe/Vienna
X-WR-TIMEZONE:Europe/Vienna
BEGIN:VEVENT
UID:22071@musicaustria.at
DTSTART;TZID=Europe/Vienna:20260509T201500
DTEND;TZID=Europe/Vienna:20260509T201500
DTSTAMP:20260421T125544Z
URL:https://www.musicaustria.at/veranstaltungen/purple-is-the-color/
SUMMARY:Purple Is The Color
DESCRIPTION:Das Jazz-Quartett um den oberösterreichischen Pianist und Band
 leader Simon Raab hat sich seit seiner Gründung 2016 als eine der markan
 testen Stimmen des zeitgenössischen Jazz profiliert. Die Band spielt eine
  Musik\, die klare melodische Linien mit lebendiger Improvisation verbinde
 t und gerade live durch eine starke Präsenz und kommunikatives Zusammensp
 iel besticht. Nach intensiven Jahren auf europäischen Bühnen und einer 
 einjährigen Residenz als Stageband im Porgy &amp\; Bess hat die Gruppe im
  Herbst 2025 ihr neues Album „Unbemanntes Raumschiff“ veröffentlicht\
 , ein Werk\, das den gewachsenen Klang der Band und ihr intuitives Zusamme
 nspiel zeigt. Mit Spielfreude und Tiefe ist Purple is the Color live ein E
 rlebnis\, auf das man wirklich gespannt sein darf.\n\nBesetzung:\nSimon Ra
 ab – Piano\nRobert Schröck – Saxophon\nMartin Kocián – Bass\nMicha
 ł Wierzgoń – Schlagzeug\n\nWeb:\nhttps://purpleisthecolor.com
CATEGORIES:Events
LOCATION:Folk Club Waidhofen an der Thaya\, Böhmgasse 18/6\, Waidhofen an 
 der Thaya\, Niederösterreich\, 3830\, Österreich
GEO:48.815852;15.285647
X-APPLE-STRUCTURED-LOCATION;VALUE=URI;X-ADDRESS=Böhmgasse 18/6\, Waidhofen
  an der Thaya\, Niederösterreich\, 3830\, Österreich;X-APPLE-RADIUS=100;
 X-TITLE=Folk Club Waidhofen an der Thaya:geo:48.815852,15.285647
END:VEVENT
BEGIN:VTIMEZONE
TZID:Europe/Vienna
X-LIC-LOCATION:Europe/Vienna
BEGIN:DAYLIGHT
DTSTART:20260329T030000
TZOFFSETFROM:+0100
TZOFFSETTO:+0200
TZNAME:CEST
END:DAYLIGHT
END:VTIMEZONE
END:VCALENDAR