BEGIN:VCALENDAR
VERSION:2.0
PRODID:-//wp-events-plugin.com//7.2.3.1//EN
TZID:Europe/Vienna
X-WR-TIMEZONE:Europe/Vienna
BEGIN:VEVENT
UID:21785@musicaustria.at
DTSTART;TZID=Europe/Vienna:20260506T200000
DTEND;TZID=Europe/Vienna:20260506T200000
DTSTAMP:20260220T124010Z
URL:https://www.musicaustria.at/veranstaltungen/pivot-quartet-fredi-lang/
SUMMARY:Pivot Quartet & Fredi Lang
DESCRIPTION:Bettina Wenzel (vocals)\, Seppo Gründler (guitar)\, Martin Zro
 st (sax\, bass)\, Josef Klammer (augmented) drums\nspecial guest: Fredi La
 ng (trumpet)
CATEGORIES:Events
LOCATION:Stockwerk Jazz\, Jakominiplatz 18\, Graz\, Steiermark\, 8010\, Ös
 terreich
GEO:47.066603;15.441604
X-APPLE-STRUCTURED-LOCATION;VALUE=URI;X-ADDRESS=Jakominiplatz 18\, Graz\, S
 teiermark\, 8010\, Österreich;X-APPLE-RADIUS=100;X-TITLE=Stockwerk Jazz:g
 eo:47.066603,15.441604
END:VEVENT
BEGIN:VTIMEZONE
TZID:Europe/Vienna
X-LIC-LOCATION:Europe/Vienna
BEGIN:DAYLIGHT
DTSTART:20260329T030000
TZOFFSETFROM:+0100
TZOFFSETTO:+0200
TZNAME:CEST
END:DAYLIGHT
END:VTIMEZONE
END:VCALENDAR