BEGIN:VCALENDAR
VERSION:2.0
PRODID:-//wp-events-plugin.com//7.2.3.1//EN
TZID:Europe/Vienna
X-WR-TIMEZONE:Europe/Vienna
BEGIN:VEVENT
UID:22074@musicaustria.at
DTSTART;TZID=Europe/Vienna:20260508T200000
DTEND;TZID=Europe/Vienna:20260508T200000
DTSTAMP:20260421T131148Z
URL:https://www.musicaustria.at/veranstaltungen/pavel-shalman-boki-radenko
 vic/
SUMMARY:PAVEL SHALMAN & BOKI RADENKOVIC
DESCRIPTION:PAVEL SHALMAN: VIOLINE\, GESANG\nBOKI RADENKOVIĆ: AKKORDEON\, 
 GITARRE\, GESANG\n\nMit ihrem Debutalbum „On the Other Side of the Danub
 e“ entführen uns die beiden Musiker auf eine Reise um die Welt. Beide s
 tammen aus musikalischen Familien\, wurden schon als Kinder von ihren Vät
 ern unterrichtet und vereint nun ihre grenzenlose Leidenschaft für alle F
 ormen der Musik.\n\nIn ihren Kompositionen verknüpfen und erweitern sie m
 usikalische Inspirationen aus dem Balkan\, aus Osteuropa\, Latein-Amerika 
 und Zentral-Europäischen Traditionen über Klezmer\, Tango bis hin zur kl
 assischen Musik und dem Jazz. Es wird furchtlos improvisiert\, musikalisch
 e Grenzen ausradiert\, Traditionen zelebriert und zu steife Regeln ignorie
 rt. Nichts ist verboten und alles erlaubt!\n\nEintritt: VVK: € 28\, AK: 
 € 33\ntickets@hobiraum.at oder 0676/9178460
CATEGORIES:Events
LOCATION:HOB I RAUM\, Hanuschgasse 1/28A\, Bad Vöslau\, Niederösterreich\
 , 2540\, Bezirk Baden\, Österreich
GEO:47.969448;16.22211
X-APPLE-STRUCTURED-LOCATION;VALUE=URI;X-ADDRESS=Hanuschgasse 1/28A\, Bad V
 öslau\, Niederösterreich\, 2540\, Bezirk Baden\, Österreich;X-APPLE-RAD
 IUS=100;X-TITLE=HOB I RAUM:geo:47.969448,16.22211
END:VEVENT
BEGIN:VTIMEZONE
TZID:Europe/Vienna
X-LIC-LOCATION:Europe/Vienna
BEGIN:DAYLIGHT
DTSTART:20260329T030000
TZOFFSETFROM:+0100
TZOFFSETTO:+0200
TZNAME:CEST
END:DAYLIGHT
END:VTIMEZONE
END:VCALENDAR