BEGIN:VCALENDAR
VERSION:2.0
PRODID:-//wp-events-plugin.com//7.2.3.1//EN
TZID:Europe/Vienna
X-WR-TIMEZONE:Europe/Vienna
BEGIN:VEVENT
UID:21802@musicaustria.at
DTSTART;TZID=Europe/Vienna:20260423T193000
DTEND;TZID=Europe/Vienna:20260423T193000
DTSTAMP:20260223T090906Z
URL:https://www.musicaustria.at/veranstaltungen/pantau-x-alte-mode-neues-g
 wand-just-leiwand/
SUMMARY:pantau-x: Alte Mode - Neues Gwand = just leiwand
DESCRIPTION:Jelena Poprzan - SRB - viola\, stimme\, maulgeige\, sounds\nWol
 fgang Puschnig - A - altsaxofon\, flöte\, hojak\nMichael Tiefenbacher - A
  - keyboards\, synthesizers\, electronics\nTobias Vedovelli - A - kontra- 
 &amp\; e-bass\nUli Soyka - A - schlagzeug\, spielsachen
CATEGORIES:Events
LOCATION:Little Stage\, Ramperstorffergasse 66\, Wien\, Wien\, 1050\, Öste
 rreich
GEO:48.1901335;16.355322399999977
X-APPLE-STRUCTURED-LOCATION;VALUE=URI;X-ADDRESS=Ramperstorffergasse 66\, Wi
 en\, Wien\, 1050\, Österreich;X-APPLE-RADIUS=100;X-TITLE=Little Stage:geo
 :48.1901335,16.355322399999977
END:VEVENT
BEGIN:VTIMEZONE
TZID:Europe/Vienna
X-LIC-LOCATION:Europe/Vienna
BEGIN:DAYLIGHT
DTSTART:20260329T030000
TZOFFSETFROM:+0100
TZOFFSETTO:+0200
TZNAME:CEST
END:DAYLIGHT
END:VTIMEZONE
END:VCALENDAR