BEGIN:VCALENDAR
VERSION:2.0
PRODID:-//wp-events-plugin.com//7.2.3.1//EN
TZID:Europe/Vienna
X-WR-TIMEZONE:Europe/Vienna
BEGIN:VEVENT
UID:14793@musicaustria.at
DTSTART;TZID=Europe/Vienna:20220330T170000
DTEND;TZID=Europe/Vienna:20220330T170000
DTSTAMP:20220311T075241Z
URL:https://www.musicaustria.at/veranstaltungen/online-workshop-post-brexi
 t-uk-touring-a-how-to-guide-fully-updated-for-2022/
SUMMARY:ONLINE WORKSHOP: POST-BREXIT UK TOURING: A HOW-TO GUIDE – FULLY U
 PDATED FOR 2022
DESCRIPTION:Want to perform in the UK but are unsure about the new restrict
 ions? The good news is: It is doable and probably easier than you think!\
 n\nJoin us for this free online-workshop\, succinctly explaining the new 
 Brexit requirements and what you need to know to continue touring the UK
  coming from Austria fully updated for 2022.\n\nmica – music austria i
 s happy to present you this webinar\, covering all the essential informat
 ion ranging from work permits\, visas\, Carnets\, payments and taxes.\n\n
 This event will be led by Ian Smith\, CEO of two key international music a
 gencies based in the UK and Austria for over 20 years\, launching his new 
 company ‘oyeah’ in Vienna 2021. He is the founder of ‘Ukeartswork.i
 nfo’ – a free fact-checked information initiative to keep creatives w
 orking with minimal disruption after Brexit.\n\nThe event is followed by a
  Q&amp\;A.\n\nRegister for tickets to join: office@musicaustria.at\n\nPart
 icipation is free! We will be sending out a zoom invitation on the day of 
 the event to everyone who has signed up.
CATEGORIES:Workshops
END:VEVENT
BEGIN:VTIMEZONE
TZID:Europe/Vienna
X-LIC-LOCATION:Europe/Vienna
BEGIN:DAYLIGHT
DTSTART:20220327T030000
TZOFFSETFROM:+0100
TZOFFSETTO:+0200
TZNAME:CEST
END:DAYLIGHT
END:VTIMEZONE
END:VCALENDAR