BEGIN:VCALENDAR
VERSION:2.0
PRODID:-//wp-events-plugin.com//7.2.3.1//EN
TZID:Europe/Vienna
X-WR-TIMEZONE:Europe/Vienna
BEGIN:VEVENT
UID:22062@musicaustria.at
DTSTART;TZID=Europe/Vienna:20260423T200000
DTEND;TZID=Europe/Vienna:20260423T200000
DTSTAMP:20260421T075706Z
URL:https://www.musicaustria.at/veranstaltungen/on-the-couch-release-trio-
 polyester/
SUMMARY:On the Couch: Release Trio Polyester
DESCRIPTION:Alexander J. Eberhard - Bratsche\, FX\nIgor Gross - Schlagwerk\
 , Radkappe\nPeter Herbert - Kontrabass\nDas Trio Polyester präsentiert da
 s neue Album Moskwitsch. Ein Mix aus komponierter und improvisierter Musik
  – mit und ohne Elektronik\, aufgenommen im Radiokulturhaus. Igor Gross 
 spielt Moskwitsch für Drumset und Elektronik - den Namensgeber der Platte
  - und das Trio Polyester präsentiert wieder seine unstillbare Spiellust!
 \n“Geist der Garage.\nEin surrealer Maskenball zwischen den Welten\, wie
  das Standgas eines Trabis in einer leeren Halle oder das leise Scheppern 
 einer Radkappe -  Spaß am Abseitigen und der Kuriosität im Stillen. Mus
 ik für intime Sessions\, die eine Portion Dreck und Eigenwilligkeit vertr
 agen.”\n\nStudio Eberhard\, Salesianergasse 10/1 im Hof\nLink:\nhttps://
 eberhard.klingt.org/projekte/on-the-couch/
CATEGORIES:Events
LOCATION:Studio Eberhard\, Salesianergasse 10/1\, Wien\, Wien\, 1030\, Öst
 erreich
GEO:48.201613;16.380208
X-APPLE-STRUCTURED-LOCATION;VALUE=URI;X-ADDRESS=Salesianergasse 10/1\, Wien
 \, Wien\, 1030\, Österreich;X-APPLE-RADIUS=100;X-TITLE=Studio Eberhard:ge
 o:48.201613,16.380208
END:VEVENT
BEGIN:VTIMEZONE
TZID:Europe/Vienna
X-LIC-LOCATION:Europe/Vienna
BEGIN:DAYLIGHT
DTSTART:20260329T030000
TZOFFSETFROM:+0100
TZOFFSETTO:+0200
TZNAME:CEST
END:DAYLIGHT
END:VTIMEZONE
END:VCALENDAR