BEGIN:VCALENDAR
VERSION:2.0
PRODID:-//wp-events-plugin.com//7.2.3.1//EN
TZID:Europe/Vienna
X-WR-TIMEZONE:Europe/Vienna
BEGIN:VEVENT
UID:22043@musicaustria.at
DTSTART;TZID=Europe/Vienna:20261017T200000
DTEND;TZID=Europe/Vienna:20261017T200000
DTSTAMP:20260408T131610Z
URL:https://www.musicaustria.at/veranstaltungen/oliver-mally-peter-schneid
 er/
SUMMARY:Oliver Mally & Peter Schneider
DESCRIPTION:Ein Blues-Duo der Extraklasse!\n\nZwei akustische Gitarren\, ei
 ne Mundharmonika und die raue\, kraftvolle Stimme von „Sir“ Oliver Mal
 ly – das sind die Zutaten für ein beeindruckendes musikalisches Erlebni
 s\, das die beiden Bluesexperten ihrem Publikum bieten. In ihrer einzigart
 igen Kombination schaffen es Mally &amp\; Schneider\, die Zuhörer von der
  ersten Note an in ihrem Bann zu ziehen und mit ihrer Musik zu begeistern.
 \n\nMally ist ein genialer Geschichtenerzähler\, der in seinen Songs mit 
 warmer\, sonorer Stimme den Zuhörer in seine wilde Blueswelt entführt un
 d sich raffiniert an der Gitarre begleitet. Was Peter Schneider wie beilä
 ufig von den Gitarrensaiten pflückt\, ist ein besonderer Genuss.\n\nDie C
 hemie zwischen Mally und Schneider ist faszinierend\, und ihre musikalisch
 e Interaktion auf der Bühne ist ein Genuss für die Sinne.
CATEGORIES:Events
LOCATION:Altes Kino Rankweil\, Bahnhofstrasse 30\, Rankweil\, Vorarlberg\, 
 6830\, Bezirk Feldkirch\, Österreich
GEO:47.271891;9.638573
X-APPLE-STRUCTURED-LOCATION;VALUE=URI;X-ADDRESS=Bahnhofstrasse 30\, Rankwei
 l\, Vorarlberg\, 6830\, Bezirk Feldkirch\, Österreich;X-APPLE-RADIUS=100;
 X-TITLE=Altes Kino Rankweil:geo:47.271891,9.638573
END:VEVENT
BEGIN:VTIMEZONE
TZID:Europe/Vienna
X-LIC-LOCATION:Europe/Vienna
BEGIN:DAYLIGHT
DTSTART:20260329T030000
TZOFFSETFROM:+0100
TZOFFSETTO:+0200
TZNAME:CEST
END:DAYLIGHT
END:VTIMEZONE
END:VCALENDAR