BEGIN:VCALENDAR
VERSION:2.0
PRODID:-//wp-events-plugin.com//7.2.3.1//EN
TZID:Europe/Vienna
X-WR-TIMEZONE:Europe/Vienna
BEGIN:VEVENT
UID:17451@musicaustria.at
DTSTART;TZID=Europe/Vienna:20231019T090000
DTEND;TZID=Europe/Vienna:20231019T130000
DTSTAMP:20260119T090502Z
URL:https://www.musicaustria.at/veranstaltungen/netzwerktreffen-zu-genderb
 ezogenen-themen-in-der-musikszene/
SUMMARY:Netzwerktreffen zu genderbezogenen Themen in der Musikszene
DESCRIPTION:Initiativen und Netzwerke im Musikbereich mit feministischen An
 liegen und Zielen\, mit Anliegen zu Diversität &amp\; Gleichstellung habe
 n viele gemeinsame Themen: mangelnde Repräsentanz bei Festivals und Veran
 staltungen\, schwierige Vereinbarkeit von Beruf und Familienleben\, fehlen
 de Role Models\, Benachteiligung bei der Fördervergabe sowie bei der Verg
 abe von Musikpreisen\, Sexismus u.v.m.\n\nEin gemeinsames Netzwerktreffens
  am 19. Oktober 2023 lotet gemeinsam mit den bestehenden Initiativen und N
 etzwerken aus\, wer woran arbeitet\, und identifiziert gemeinsame Anliegen
 . Natürlich wird es auch Raum für persönliche Vernetzung geben.\n\nDie 
 Ergebnisse werden in einem Bericht auf Deutsch und Englisch zusammenfasst.
 \n\nPräsentationen:\n\nD/Arts: Dilan Sengül\nMusic Women Austria: Sarah 
 Fürlinger\nClickCollective: Christina Kerschner\nFem*Friday: Maria Herold
 \nGrrrls Kulturverein: Karoline Droschl-Pieringer\nmusikfrauentreffen: Chr
 istina Sanoll\nQueerfest Vienna: Denise Van De Cruze\nSisters of Music: Ka
 rin Tonsern\, Romana Spitzbart-Kleewein\nTricky Women/Tricky Realities: Wa
 ltraud Grausgruber\nPhonoFemme: Mia Zabelka\nBeatzarilla: Nina Braith\nFra
 ufeld: Sara Zlanabitnig\nVirtual Kitchen Table: Pia Palme\nDonna Decks: Sy
 lvia (Penny) Haase und Maria\nfemale:pressure: Christina Nemec\nQueerzilla
  (Queer-feminist festival Vienna): Eva\nvera* Vertrauensstelle gegen Belä
 stigung und Gewalt in Kunst\, Kultur und Sport: Sabine Reiter\nMusic For A
 ll: Tina Ruprechter\; Annemarie Reisinger-Treiber\n\nWann &amp\; Wo\n\nDon
 nerstag\, 19. Oktober 2023 von 9:00 – 13:00 Uhr\nDepot\, Breitegasse 3\,
  1070 Wien (Teilnehmer:innenanzahl begrenzt) oder online (Zoom)\n\nWir wü
 rden uns freuen\, wenn ihr nach der Veranstaltung bei einem gemeinsamen Mi
 ttagessen (Selbstzahlung) im Glacis Beisl im Museumsquartier dabei seid.\n
 \nAnmeldung\n\nBitte gebt uns bei eurer Anmeldung an office@musicaustria.a
 t bekannt\, ob ihr vor Ort oder online an der Veranstaltung teilnehmen mö
 chtet. Der Zugang zum Veranstaltungsraum ist barrierefrei\, die Toiletten 
 sind nicht barrierefrei. Weiters würden wir euch bitten\, bekannt zu gebe
 n\, ob ihr bei dem gemeinsamen Mittagessen im Glacis Beisl dabei sein werd
 et.
CATEGORIES:Workshops
LOCATION:Depot Cafe\, Breite Gasse 3\, Wien\, Wien\, 1070\, Österreich
GEO:48.2031754;16.356822599999987
X-APPLE-STRUCTURED-LOCATION;VALUE=URI;X-ADDRESS=Breite Gasse 3\, Wien\, Wie
 n\, 1070\, Österreich;X-APPLE-RADIUS=100;X-TITLE=Depot Cafe:geo:48.203175
 4,16.356822599999987
END:VEVENT
BEGIN:VTIMEZONE
TZID:Europe/Vienna
X-LIC-LOCATION:Europe/Vienna
BEGIN:DAYLIGHT
DTSTART:20230326T030000
TZOFFSETFROM:+0100
TZOFFSETTO:+0200
TZNAME:CEST
END:DAYLIGHT
END:VTIMEZONE
END:VCALENDAR