BEGIN:VCALENDAR
VERSION:2.0
PRODID:-//wp-events-plugin.com//7.2.3.1//EN
TZID:Europe/Vienna
X-WR-TIMEZONE:Europe/Vienna
BEGIN:VEVENT
UID:15241@musicaustria.at
DTSTART;TZID=Europe/Vienna:20220621T183000
DTEND;TZID=Europe/Vienna:20220621T183000
DTSTAMP:20220725T112923Z
URL:https://www.musicaustria.at/veranstaltungen/music-talk-mit-special-gue
 st-sebastian-koenig-eleven-empire/
SUMMARY:MUSIC TALK – MIT SPECIAL GUEST SEBASTIAN KÖNIG (ELEVEN EMPIRE)
DESCRIPTION:Beim „Music Talk“ geht es in gemütlicher und ungezwungener
  Atmosphäre um die Vermittlung und den Austausch von Tipps &amp\; Tricks 
 zwischen Musiker*innen. Das reicht von Themen wie u.a. Förderungen\, Prom
 otion\, Live-Auftritte\, Tonträger-Produktion\, Urheberrecht\, AKM/GEMA b
 is hin zu Tipps in Sachen Studio/Aufnahmetechnik\, „Wie finde ich meinen
  Sound” oder „Wie stelle ich eine Tour\, ein Promo-Paket zusammen.“ 
 Wie schaut es mit Live-Konzerten aus? Wie können Streamings verbessert we
 rden und wie schaut es da eigentlich rechtlich aus? Natürlich dürfen auc
 h\, wie gehabt\, jegliche anderen Themen eingebracht werden.\n\nDabei steh
 t euch das bewährte Duo Didi Neidhart von der Salzburger Servicestelle de
 r mica (music information center austria) und Wolfgang Descho (Geschäftsf
 ührer des Rockhouse) mit Tipps &amp\; Tricks zur Verfügung.\n\nDieses Ma
 l gesellt sich Sebastian König (Eleven Empire/DAWN) dazu. Der Exil-Deutsc
 he ist seit über einer Dekade in Salzburgs Kulturszene umtriebig. Vom Blo
 g zum Net-Label\, über die unabhängige Kulturplattform WE ARE SALZBURG b
 is zur Veranstaltungsreihe Eleven Empire und dem DAWN Fest hat er dabei da
 s ein oder andere Konzert auf die Beine gestellt.\nFür das Rockhouse reis
 t er außerdem regelmäßig zu Konferenzfestivals quer durch Europa um Sal
 zburgs Kulturszene zu repräsentieren.\nDa er zudem vor allem im Bereich B
 ooking tätig ist bietet sich der Großraum als Thema an. Wie bewerbe ich 
 mich um eine Show? Wem kann man schreiben? Warum werden meine Mails nicht 
 beantwortet? Dies und mehr kann gerne umfangreich diskutiert werden.\n\nVo
 rtragende: Wolfgang Descho (Rockhouse) &amp\; Didi Neidhart (mica-Salzburg
 )\, Special Guest: Sebastian König (Eleven Empire)\n\nAnmeldung: Um Anme
 ldung wird gebeten! Ihr könnt euch unter academy@rockhouse.at für den Wo
 rkshop anmelden.\nDie Anmeldung ist verbindlich aber kostenlos.
CATEGORIES:Workshops
LOCATION:Rockhouse\, Schallmooser Hauptstraße 46\, Salzburg\, Salzburg\, 5
 020\, Österreich
GEO:47.806921;13.058989
X-APPLE-STRUCTURED-LOCATION;VALUE=URI;X-ADDRESS=Schallmooser Hauptstraße 4
 6\, Salzburg\, Salzburg\, 5020\, Österreich;X-APPLE-RADIUS=100;X-TITLE=Ro
 ckhouse:geo:47.806921,13.058989
END:VEVENT
BEGIN:VTIMEZONE
TZID:Europe/Vienna
X-LIC-LOCATION:Europe/Vienna
BEGIN:DAYLIGHT
DTSTART:20220327T030000
TZOFFSETFROM:+0100
TZOFFSETTO:+0200
TZNAME:CEST
END:DAYLIGHT
END:VTIMEZONE
END:VCALENDAR