BEGIN:VCALENDAR
VERSION:2.0
PRODID:-//wp-events-plugin.com//7.2.3.1//EN
TZID:Europe/Vienna
X-WR-TIMEZONE:Europe/Vienna
BEGIN:VEVENT
UID:21795@musicaustria.at
DTSTART;TZID=Europe/Vienna:20260404T190000
DTEND;TZID=Europe/Vienna:20260404T190000
DTSTAMP:20260220T132114Z
URL:https://www.musicaustria.at/veranstaltungen/mothers-cake-europe-tour-2
 026/
SUMMARY:MOTHER’S CAKE – Europe Tour 2026
DESCRIPTION:Mother’s Cake kündigen Europa-Tour 2026 an – ein psychedel
 ischer Trip ohne Rücksicht auf Verluste\n\nMother’s Cake setzen ihre we
 ltweite Ultrabliss-Mission fort: Nach Shows in Mexiko\, Südafrika\, Indie
 n und quer durch Europa kehrt die Band im Frühjahr 2026 endlich wieder au
 f die europäischen Bühnen zurück. Deutschland\, Rumänien\, Bulgarien\,
  Griechenland und Österreich dürfen sich auf eine explosive Mischung aus
  neuen Tracks so wie „all-time-favourites“ freuen.\n\nWas das Publikum
  erwartet? Ein energiegeladener\, musikalischer Trip durch die schillernde
 n Welten des Psychedelic Rock – intensiv\, düster\, ekstatisch. Mother
 ’s Cake entführen ihr Publikum in eine hypnotische Welt\, in der Grenze
 n verschwimmen und die Dunkelheit zum Tanz bittet. Moshpits und Wall of De
 ath sind dabei alles andere als ausgeschlossen.\n\nWer Musik voller Überr
 aschungen\, Stilbrüche\, Wendungen und roher Experimentierlust liebt\, wi
 rd sich in diesem Soundkosmos verlieren. Mother’s Cake bleiben die perfe
 kte Band für alle\, die keine Berührungsängste kennen\, Regeln brechen 
 wollen und offen sind für Neues.\n\nErlebe die totale Mother’s Cake Exp
 erience – eine musikalische Befreiungskur\, die Deine Sorgen und Ängste
  einfach wegbläst – Musiktherapie mit Psychedelic Punk.
CATEGORIES:Events
LOCATION:ppc - ProjektPopCulture\, Neubaugasse 6\, Graz\, Steiermark\, 8020
 \, Österreich
GEO:47.075873;15.431462
X-APPLE-STRUCTURED-LOCATION;VALUE=URI;X-ADDRESS=Neubaugasse 6\, Graz\, Stei
 ermark\, 8020\, Österreich;X-APPLE-RADIUS=100;X-TITLE=ppc - ProjektPopCul
 ture:geo:47.075873,15.431462
END:VEVENT
BEGIN:VTIMEZONE
TZID:Europe/Vienna
X-LIC-LOCATION:Europe/Vienna
BEGIN:DAYLIGHT
DTSTART:20260329T030000
TZOFFSETFROM:+0100
TZOFFSETTO:+0200
TZNAME:CEST
END:DAYLIGHT
END:VTIMEZONE
END:VCALENDAR