BEGIN:VCALENDAR
VERSION:2.0
PRODID:-//wp-events-plugin.com//7.2.3.1//EN
TZID:Europe/Vienna
X-WR-TIMEZONE:Europe/Vienna
BEGIN:VEVENT
UID:22117@musicaustria.at
DTSTART;TZID=Europe/Vienna:20260526T193000
DTEND;TZID=Europe/Vienna:20260526T193000
DTSTAMP:20260424T132600Z
URL:https://www.musicaustria.at/veranstaltungen/mirkovic-corvino-duo/
SUMMARY:Mirković & Corvino DUO
DESCRIPTION:Inspiriert von der alten Lyrik Südosteuropas schaffen Nataša 
 Mirković und Pippo Corvino eine Musik\, die zwischen Jahrhunderten wander
 t – von sephardischen Balladen bis zu Liedern aus Montenegro\, Bosnien-H
 erzegowina und Mazedonien. Mit Stimme und Gitarre verweben sie Tradition u
 nd Gegenwart zu einer Klangsprache\, die schlicht\, tief und von leiser Ma
 gie ist.\n\nMirković\, Sängerin\, Schauspielerin und Klangforscherin\, v
 ereint Klassik\, Volksmusik\, Jazz und Improvisation zu einer unverwechsel
 baren Ausdruckskraft. Corvino\, Gitarrist und Komponist zwischen Jazz\, Ro
 ck und Folk\, verleiht den Liedern eine feine\, oft unerwartete harmonisch
 e Weite. Gemeinsam schaffen sie eine berührende\, poetische Klangwelt –
  intim\, zeitlos und voller stiller Intensität. Ein Konzert\, das nicht l
 aut werden muss\, um lange nachzuklingen.\n\nNataša Mirković – Stimme\
 , Pippo Corvino – Gitarre\n\n&nbsp\;
CATEGORIES:Events
LOCATION:Sargfabrik\, Goldschlagstraße 169\, Wien\, Wien\, 1140\, Österre
 ich
GEO:48.195046;16.304747
X-APPLE-STRUCTURED-LOCATION;VALUE=URI;X-ADDRESS=Goldschlagstraße 169\, Wie
 n\, Wien\, 1140\, Österreich;X-APPLE-RADIUS=100;X-TITLE=Sargfabrik:geo:48
 .195046,16.304747
END:VEVENT
BEGIN:VTIMEZONE
TZID:Europe/Vienna
X-LIC-LOCATION:Europe/Vienna
BEGIN:DAYLIGHT
DTSTART:20260329T030000
TZOFFSETFROM:+0100
TZOFFSETTO:+0200
TZNAME:CEST
END:DAYLIGHT
END:VTIMEZONE
END:VCALENDAR