BEGIN:VCALENDAR
VERSION:2.0
PRODID:-//wp-events-plugin.com//7.2.3.1//EN
TZID:Europe/Vienna
X-WR-TIMEZONE:Europe/Vienna
BEGIN:VEVENT
UID:21411@musicaustria.at
DTSTART;TZID=Europe/Vienna:20251217T200000
DTEND;TZID=Europe/Vienna:20251217T200000
DTSTAMP:20251205T121922Z
URL:https://www.musicaustria.at/veranstaltungen/mira-lu-kovacs-clemens-wen
 ger-sad-songs-to-cry-to/
SUMMARY:Mira Lu Kovacs & Clemens Wenger | Sad Songs To Cry To
DESCRIPTION:\n\nMira Lu Kovacs ist nicht nur als Sängerin von My Ugly Clem
 entine (vorher spielte sie schon in so phantastischen Bands wie Schmieds P
 uls und 5KHD) eine der herausragenden Stimmen der österreichischen Poplan
 dschaft. Clemens Wenger wiederum ist Mitglied der Wiener Soul-Band 5/8erl 
 in Ehren und Gründer der Jazz-Werkstatt - er gilt als Schlüsselspieler i
 n Sachen Jazz und anspruchsvollem Pop. Gemeinsam haben Kovacs und Wenger i
 hr Duo-Debüt vorgelegt.\n\n"Sad Songs To Cry To" heißt die Sammlung von 
 zehn Songs\, die ein Soundtrack für die "stille Zeit im Jahr" sein möcht
 e.\n\nZehn Songs\, acht Coverversionen und zwei neue\, eigene Stücke gibt
  es hier zu entdecken. Eingerahmt wird die Sammlung von zwei Songs\, die s
 chon mehrere Jahrzehnte auf dem musikalischen Buckel haben und eines einma
 l mehr betonen: traurige Lieder\, die einen zum Weinen bringen sind eine z
 eitlose und zentrale Antriebsfeder des Musikmachens. "Wenn ich mir was wü
 nschen dürfte" aus dem Jahr 1931 - damals von Marlene Dietrich interpreti
 ert - eröffnet den Reigen. "I'm Old-Fashioned"\, ein Fred Astaire Song au
 s dem Jahr 1942\, setzt den Schlussakkord.\n\nWas diese Lieder verbindet i
 st der Hang zur Melancholie und eine stille Aufforderung zum Innehalten. "
 Ich glaube schon\, dass rund um Weihnachten die Zeit ist\, in der man etwa
 s mehr Ruhe findet"\, meint Clemens Wenger\, "und auch die Zeit\, um etwas
  melancholisch zu werden. Für uns ist das ein wichtiges Gefühl und diese
 s Album ist ein guter Soundtrack zu diesem Gefühl."\n\nMira Lu Kovacs und
  Clemens Wenger deuten auf "Sad Songs To Cry To" Musik als Zufluchtsort f
 ür jene Gefühle\, die man sonst gern überpinselt. Wie im Ton Steine Sch
 erben Klassiker "Halt Deine Liebe fest" oder in der Neudeutung des STS-Kla
 ssikers "Kalt und kälter". Die beiden neuen Stücke\, „Fort von Hier“
  und die Vertonung von Fernando Pessoas "That’s What Happiness Is" reihe
 n sich nahtlos ein.\n\nJoni Mitchells "A Case of You" ist ein Highlight di
 eses Albums. Mira Lu Kovacs erzählt diese Liebesgeschichte zerbrechlich\,
  kristallklar und überwältigend berührend. "Das muss man sich erst einm
 al zutrauen"\, meint Clemens Wenger\, der schon lange mit dem Gedanken spi
 elt\, Joni Mitchell zu covern - und dabei stets Mira Lu Kovacs im Hinterko
 pf hatte. "Da darf man nicht zu ehrfürchtig vor dem Original sein\, sonde
 rn muss versuchen\, damit Musik zu machen und das Lied nicht bloß nachzum
 achen."\n\n"Sad Songs To Cry To" leistet sich keine Schwächen. Kovacs und
  Wenger ringen Einsamkeit\, Unsicherheit und Isolation etwas Tröstendes a
 b. Dieses Album ist eine eindringliche Verteidigung der Traurigkeit\, ein 
 Manifest der Melancholie. Wer in sich gehen und dabei die unaufgeregte Ges
 ellschaft zweier Ausnahmemusiker genießen möchte\, dem sei "Sad Songs To
  Cry To" ans vorweihnachtlich gestimmte Herz gelegt.\n(David Baldinger\, 
 Ö1\, weil Ö1 gehört gehört)\n\n
LOCATION:Alter Schlachthof Wels\, Dragonerstraße 22\, Wels\, Oberösterrei
 ch\, 4600\, Österreich
GEO:48.158522;14.017457
X-APPLE-STRUCTURED-LOCATION;VALUE=URI;X-ADDRESS=Dragonerstraße 22\, Wels\,
  Oberösterreich\, 4600\, Österreich;X-APPLE-RADIUS=100;X-TITLE=Alter Sch
 lachthof Wels:geo:48.158522,14.017457
END:VEVENT
BEGIN:VTIMEZONE
TZID:Europe/Vienna
X-LIC-LOCATION:Europe/Vienna
BEGIN:STANDARD
DTSTART:20251026T020000
TZOFFSETFROM:+0200
TZOFFSETTO:+0100
TZNAME:CET
END:STANDARD
END:VTIMEZONE
END:VCALENDAR