BEGIN:VCALENDAR
VERSION:2.0
PRODID:-//wp-events-plugin.com//7.2.3.1//EN
TZID:Europe/Vienna
X-WR-TIMEZONE:Europe/Vienna
BEGIN:VEVENT
UID:9352@musicaustria.at
DTSTART;TZID=Europe/Vienna:20190930T180000
DTEND;TZID=Europe/Vienna:20190930T200000
DTSTAMP:20190919T100212Z
URL:https://www.musicaustria.at/veranstaltungen/mica-workshop-musik-foerde
 rungen-ma7-stadt-wien-wie-einreichen/
SUMMARY:mica – Workshop: Musik - Förderungen MA7 (Stadt Wien) - Wie einr
 eichen?
DESCRIPTION:Die Stadt Wien fördert Musikschaffende und Institutionen aus d
 em Bereich der Musik auf unterschiedliche Weise. Unterstützt werden groß
 e Musikinstitutionen\, Einzelprojekte wie Konzertveranstaltungen und Festi
 vals auf hohem künstlerischen Niveau. Wesentliche Formen der Förderung s
 ind die Projektförderung für Ensembles\, Orchester und Chöre und die Ko
 mpositionsförderung für Einzelpersonen.\n\nDer nächste Einreichtermin i
 st der 15.Oktober 2019. Wir wollen die Förderschiene vorstellen und präs
 entieren Informationen zu den Förderrichtlinien und Einreichmodalitäten 
 inkl. dem Förderungsantrag.\n\nTeilnahme kostenlos\nAnmeldung: Begrenzte 
 Teilnehmerzahl aufgrund der Saalgröße\, bitte um Anmeldung per E-Mail: o
 ffice@musicaustria.at
CATEGORIES:Workshops
LOCATION:mica - music austria\, Stiftgasse 29\, Wien\, Wien\, 1070\, Öster
 reich
GEO:48.2031848;16.354097599999932
X-APPLE-STRUCTURED-LOCATION;VALUE=URI;X-ADDRESS=Stiftgasse 29\, Wien\, Wien
 \, 1070\, Österreich;X-APPLE-RADIUS=100;X-TITLE=mica - music austria:geo:
 48.2031848,16.354097599999932
END:VEVENT
BEGIN:VTIMEZONE
TZID:Europe/Vienna
X-LIC-LOCATION:Europe/Vienna
BEGIN:DAYLIGHT
DTSTART:20190331T030000
TZOFFSETFROM:+0100
TZOFFSETTO:+0200
TZNAME:CEST
END:DAYLIGHT
END:VTIMEZONE
END:VCALENDAR