BEGIN:VCALENDAR
VERSION:2.0
PRODID:-//wp-events-plugin.com//7.2.3.1//EN
TZID:Europe/Vienna
X-WR-TIMEZONE:Europe/Vienna
BEGIN:VEVENT
UID:10870@musicaustria.at
DTSTART;TZID=Europe/Vienna:20200504T110000
DTEND;TZID=Europe/Vienna:20200504T130000
DTSTAMP:20200605T070232Z
URL:https://www.musicaustria.at/veranstaltungen/mica-webinar-corona-unters
 tuetzungsmassnahmen-bzw-moeglichkeiten-fuer-musikschaffende/
SUMMARY:mica – Workshop:  CORONA: UNTERSTÜTZUNGSMASSNAHMEN BZW. –MÖGL
 ICHKEITEN FÜR MUSIKSCHAFFENDE
DESCRIPTION:Corona: Unterstützungsmaßnahmen bzw. –möglichkeiten für M
 usikschaffende\n\nDie Corona-Krise und die damit verbundenen Maßnahmen zu
 r Bewältigung dieser stellen die gesamte österreichische Wirtschaft und 
 damit auch die heimische Musikwirtschaft in höchstem Maße vor große fin
 anzielle Herausforderungen. Das komplette Verbot von Veranstaltungen und d
 ie Schließung aller Lokale\, Clubs\, Veranstaltungsräume und gastwirtsch
 aftliche Betriebe lassen Musikschaffende in eine unvorhersehbare Zukunft b
 licken. Um ein wenig Licht ins Dunkel zu bringen\, sammelt mica – music 
 austria alle Informationen zu Maßnahmen\, Initiativen und Services\, die 
 für Musikschaffende\, Veranstalter*innen und Clubbetreiber*innen in der a
 ktuellen Lage relevant sind. Helge Hinteregger hat sich seit dem ersten Ta
 g intensiv mit den Maßnahmen und Möglichkeiten auseinandergesetzt und wi
 rd sein Wissen in diesem Webinar teilen und Fragen beantworten.\n\nVortrag
 ender: Helge Hinteregger (mica – music austria Fachreferent)\n\nTeilnahm
 e kostenlos\n\nAnmeldung: Begrenzte Teilnehmerzahl aufgrund der technische
 n Voraussetzungen des online tools\, bitte um Anmeldung per E-Mail: offic
 e@musicaustria.at\nSie erhalten nach der Anmeldung denn den Link zur Teiln
 ahme am Webinar
CATEGORIES:Workshops
LOCATION:\, \, 
X-APPLE-STRUCTURED-LOCATION;VALUE=URI;X-ADDRESS=\, ;X-APPLE-RADIUS=100;X-TI
 TLE=:geo:0,0
END:VEVENT
BEGIN:VTIMEZONE
TZID:Europe/Vienna
X-LIC-LOCATION:Europe/Vienna
BEGIN:DAYLIGHT
DTSTART:20200329T030000
TZOFFSETFROM:+0100
TZOFFSETTO:+0200
TZNAME:CEST
END:DAYLIGHT
END:VTIMEZONE
END:VCALENDAR