BEGIN:VCALENDAR
VERSION:2.0
PRODID:-//wp-events-plugin.com//7.2.3.1//EN
TZID:Europe/Vienna
X-WR-TIMEZONE:Europe/Vienna
BEGIN:VEVENT
UID:14958@musicaustria.at
DTSTART;TZID=Europe/Vienna:20220420T100000
DTEND;TZID=Europe/Vienna:20220420T170000
DTSTAMP:20220419T154701Z
URL:https://www.musicaustria.at/veranstaltungen/mica-online-workshop-musik
 -foerderungen-bundeslaender-vorarlberg-tirol-salzburg-kaernten-kostenkalku
 lation-fuer-foerdereinreichungen-angemessen-und-transparent-kalkulieren-i/
SUMMARY:MICA – ONLINE-WORKSHOP: MUSIK – FÖRDERUNGEN BUNDESLÄNDER (VOR
 ARLBERG\, TIROL\, SALZBURG\, KÄRNTEN): KOSTENKALKULATION FÜR FÖRDEREINR
 EICHUNGEN – ANGEMESSEN UND TRANSPARENT KALKULIEREN INKL. FAIR PAY (Versc
 hoben auf 1.6.2022)
DESCRIPTION:Workshop verschoben auf 1.6.2022\, 17 Uhr!!!\n\nDie Kulturabtei
 lungen aller Bundesländer in Österreich fördern Musikschaffende und Ins
 titutionen aus dem Bereich der Musik auf unterschiedliche Weise. Unterstü
 tzt werden Einzelprojekte\, Konzertreihen\, Festivals\, u.a. auf hohem kü
 nstlerischen Niveau. Wesentliche Formen der Förderung sind die Projektfö
 rderung für Ensembles\, Bands\, Orchester und Chöre sowie die Kompositio
 nsförderung für Einzelpersonen.\n\nUm die Musikschaffenden in ganz Öste
 rreich fit für die administrativen Bedingungen und Förderkriterien der j
 eweiligen Kulturabteilungen der Bundesländer zu machen\, wollen wir die w
 ichtigsten Förderschienen vorstellen\, präsentieren Informationen zu den
  Förderrichtlinien und Einreich-Modalitäten und notwendigen Formularen\,
  sowie Tools und Tipps aus der Antrags-Praxis.\n\nMit der Fair-Pay-Initiat
 ive soll in Österreich ein wichtiger Schritt für eine gerechte Entlohnun
 g und faire Arbeitsbedingungen in Kunst und Kultur gesetzt werden. Im Rahm
 en des Workshops wird darauf eingegangen\, welche Auswirkungen das auf die
  Fördereinreichungen hat bzw. in Zukunft haben wird.\n\nVortragende: Helg
 e Hinteregger (mica – music austria)\, Georg Steker (Geschäftsführer d
 er Musiktheatertage Wien)\n\nTeilnahme kostenlos\n\nOrt: Zoom (Link wird 
 noch bekanntgegeben)\nbitte um Anmeldung per E-Mail: office@musicaustria.
 at
CATEGORIES:Workshops
END:VEVENT
BEGIN:VTIMEZONE
TZID:Europe/Vienna
X-LIC-LOCATION:Europe/Vienna
BEGIN:DAYLIGHT
DTSTART:20220327T030000
TZOFFSETFROM:+0100
TZOFFSETTO:+0200
TZNAME:CEST
END:DAYLIGHT
END:VTIMEZONE
END:VCALENDAR