BEGIN:VCALENDAR
VERSION:2.0
PRODID:-//wp-events-plugin.com//7.2.3.1//EN
TZID:Europe/Vienna
X-WR-TIMEZONE:Europe/Vienna
BEGIN:VEVENT
UID:14959@musicaustria.at
DTSTART;TZID=Europe/Vienna:20220427T100000
DTEND;TZID=Europe/Vienna:20220427T170000
DTSTAMP:20220419T155004Z
URL:https://www.musicaustria.at/veranstaltungen/mica-online-workshop-musik
 -foerderungen-bundeslaender-burgenland-noe-ooe-steiermark-kostenkalkulatio
 n-fuer-foerdereinreichungen-angemessen-und-transparen/
SUMMARY:MICA – ONLINE-WORKSHOP: MUSIK – FÖRDERUNGEN BUNDESLÄNDER (BUR
 GENLAND\, NÖ\, OÖ\, STEIERMARK): KOSTENKALKULATION FÜR FÖRDEREINREICHU
 NGEN – ANGEMESSEN UND TRANSPARENT KALKULIEREN INKL. FAIR PAY (Verschoben
  auf 1.6.2022)
DESCRIPTION:Der Workshop wurde auf den 1.6.2022\, 17 Uhr verschoben!!!\n\nD
 ie Kulturabteilungen aller Bundesländer in Österreich fördern Musikscha
 ffende und Institutionen aus dem Bereich der Musik auf unterschiedliche We
 ise. Unterstützt werden Einzelprojekte\, Konzertreihen\, Festivals\, u.a.
  auf hohem künstlerischen Niveau. Wesentliche Formen der Förderung sind 
 die Projektförderung für Ensembles\, Bands\, Orchester und Chöre sowie 
 die Kompositionsförderung für Einzelpersonen.\n\nUm die Musikschaffenden
  in ganz Österreich fit für die administrativen Bedingungen und Förderk
 riterien der jeweiligen Kulturabteilungen der Bundesländer zu machen\, wo
 llen wir die wichtigsten Förderschienen vorstellen\, präsentieren Inform
 ationen zu den Förderrichtlinien und Einreich-Modalitäten und notwendige
 n Formularen sowie Tools und Tipps aus der Antrags-Praxis.\n\nMit der Fair
 -Pay-Initiative soll in Österreich ein wichtiger Schritt für eine gerech
 te Entlohnung und faire Arbeitsbedingungen in Kunst und Kultur gesetzt wer
 den. Im Rahmen des Workshops wird darauf eingegangen\, welche Auswirkungen
  das auf die Fördereinreichungen hat bzw. in Zukunft haben wird.\n\nVortr
 agende: Helge Hinteregger (mica – music austria)\, Georg Steker (Geschä
 ftsführer der Musiktheatertage Wien)\n\nTeilnahme kostenlos\n\nOrt: Zoom
  (Link wird noch bekanntgegeben)\nbitte um Anmeldung per E-Mail: office@m
 usicaustria.at
CATEGORIES:Workshops
END:VEVENT
BEGIN:VTIMEZONE
TZID:Europe/Vienna
X-LIC-LOCATION:Europe/Vienna
BEGIN:DAYLIGHT
DTSTART:20220327T030000
TZOFFSETFROM:+0100
TZOFFSETTO:+0200
TZNAME:CEST
END:DAYLIGHT
END:VTIMEZONE
END:VCALENDAR