BEGIN:VCALENDAR
VERSION:2.0
PRODID:-//wp-events-plugin.com//7.2.3.1//EN
TZID:Europe/Vienna
X-WR-TIMEZONE:Europe/Vienna
BEGIN:VEVENT
UID:16689@musicaustria.at
DTSTART;TZID=Europe/Vienna:20230602T090000
DTEND;TZID=Europe/Vienna:20230602T130000
DTSTAMP:20230509T092058Z
URL:https://www.musicaustria.at/veranstaltungen/mental-health-burnout-prae
 vention-mica-workshop-in-kooperation-mit-dem-oemr-music-starters-network/
SUMMARY:Mental Health & Burnout Prävention – mica–Workshop in Kooperat
 ion mit dem ÖMR/ Music Starters Network
DESCRIPTION:Umgang mit mir selbst in herausfordernden Situationen\n\n 	Bist
  du in schwierigen Situationen oft unsicher\, handlungsunfähig und hast d
 as Gefühl\, du „funktionierst“ nur noch?\n 	In herausfordernden Situa
 tionen fällt es dir schwer\, klar und gut bei dir zu bleiben?\n 	Durch de
 ine Vielseitigkeit fehlt es dir an Klarheit über deine jeweilige Rolle\, 
 in der du gerade bist und weißt nicht\, wie du alles unter einen Hut brin
 gen sollst?\n 	Zu geringe Honorare und finanzielle Leerlaufzeiten bereiten
  dir Kopfzerbrechen und du fragst dich\, wie du das alles schaffen kannst\
 , ohne dich selbst zu verlieren?\n\nFalls du dich von einem oder mehreren 
 dieser Punkte angesprochen fühlst\, könnte dieser Workshop genau das Ric
 htige für dich sein. Zusammen werden wir uns mit diesen Herausforderungen
  auseinandersetzen und gemeinsam neue Wege finden\, wie du damit umgehen k
 annst. Unser Ziel ist es\, dass du nach unserem gemeinsamen Workshop Strat
 egien und Handlungsmöglichkeiten für diese und ähnliche Situationen has
 t\, um freier und selbstbestimmter agieren zu können.\n\nInhalte und Ziel
 e\n\n 	Entwickeln von neuen Strategien und Handlungsmöglichkeiten für de
 n Umgang in herausfordernden Zeiten\n 	Stärkung des Selbstwertgefühls\n 
 	Vermeidung von Burnout\n 	Klarheit über die eigene Rolle in verschiedene
 n Situationen\n 	Authentizität statt Perfektionismus\n 	Verbesserung der 
 mentalen Gesundheit\n\nZielgruppe\nProfessionelle Musikschaffende\, Lehren
 de und Fachleute aus dem Musikbereich\n\nKursleitung\nManuela Weiss\, MBA\
 n\nWann &amp\; Wo\n02.06.2023\, 09:00 – 13:00 Uhr\nmica - music austria\
 nStiftgasse 29\, Wien\, Wien\, 1070\n\nAnmeldung unter\noffice@musicaustri
 a.at\nTeilnehmerzahl begrenzt\, Teilnahme kostenlos\n\nEine Veranstaltung 
 in Kooperation mit dem ÖMR\, dem Music Starters Network und mica - music 
 austria
CATEGORIES:Workshops
LOCATION:mica - music austria\, Stiftgasse 29\, Wien\, Wien\, 1070\, Öster
 reich
GEO:48.2031848;16.354097599999932
X-APPLE-STRUCTURED-LOCATION;VALUE=URI;X-ADDRESS=Stiftgasse 29\, Wien\, Wien
 \, 1070\, Österreich;X-APPLE-RADIUS=100;X-TITLE=mica - music austria:geo:
 48.2031848,16.354097599999932
END:VEVENT
BEGIN:VTIMEZONE
TZID:Europe/Vienna
X-LIC-LOCATION:Europe/Vienna
BEGIN:DAYLIGHT
DTSTART:20230326T030000
TZOFFSETFROM:+0100
TZOFFSETTO:+0200
TZNAME:CEST
END:DAYLIGHT
END:VTIMEZONE
END:VCALENDAR