BEGIN:VCALENDAR
VERSION:2.0
PRODID:-//wp-events-plugin.com//7.2.3.1//EN
TZID:Europe/Vienna
X-WR-TIMEZONE:Europe/Vienna
BEGIN:VEVENT
UID:22099@musicaustria.at
DTSTART;TZID=Europe/Vienna:20260526T203000
DTEND;TZID=Europe/Vienna:20260526T203000
DTSTAMP:20260424T125121Z
URL:https://www.musicaustria.at/veranstaltungen/max-gruber-heinz-ditsch-so
 ng-to-myself/
SUMMARY:Max Gruber & Heinz Ditsch 'Song to Myself'
DESCRIPTION:\n\nMax Gruber: text\, recitals\nHeinz Ditsch: piano\, vocals\n
 Sascha Lackner: bass\nGeorg Edlinger: drums\n\nHeinz Ditsch und Max Gruber
  haben zusammengefunden\, um an eine uralte künstlerische Tradition diese
 r Stadt anzuknüpfen - die Verbindung von Poesie\, Musik\, Performance und
  Modernität\, die mit Namen wie Abraham a Sancta Clara\, Nestroy\, Bayer\
 , Artmann und Jandl untrennbar verbunden ist.\n\nIn dieser Tradition stand
  das legendäre Ensemble „Des Ano“\, mit dem Gruber das Kunststück fe
 rtigbrachte\, ein eigenes Genre zu definieren: RAP als "Rhythmisch Ausgef
 ührte Poesie". „DIE ZEIT“ schrieb\, Gruber wäre der "neue Hauspoet d
 er schwarzen Wiener Schule der Trauer\, der Melancholie\, der Musikalität
 \, der lauernden und manchmal zeternden Gemeinheit.“ Elke Heidenreich fa
 nd im bösen „Kleinen Mann“ ihr Lieblingsstück. Mit dem neuen Program
 m „Song to Myself“ wird diese Tradition fortgeführt.\n\nHeinz Ditsch\
 , Akkordeonist beim Kollegium Kalksburg\, findet zu seiner alten Liebe\, d
 em Jazz\, zurück und leitet ein klassisches Klaviertrio. Schlagzeuger Geo
 rg Edlinger und Kontrabassist Sascha Lackner\, stellen ihre stilistische V
 ielseitigkeit unter Beweis.\nMit Max Gruber als Rezitator\, werden alle Fo
 rmen der Begegnung\, Verschmelzung und Konfrontation zwischen Musik und Sp
 rache ausgelotet.\n\nEine Musik\, die so beredt ist wie die Sprache musika
 lisch. „Song to Myself“ erzählt von den Schwierigkeiten\, im Leben zu
  großer Form aufzulaufen und die Ursachen für die eigene\, hart erarbeit
 ete Bedeutungslosigkeit zu erforschen. Als musikalisch-literarische tour d
 e force\, die zwischen Konzert\, literarischer Performance\, Sprechoper\, 
 Theaterabend\, hohen Leberwerten und tiefer Melancholie oszilliert und auc
 h Augenblicke „verantwortungsloser Heiterkeit“ (© Karl Kraus) nicht s
 cheut. (Pressetext)\n\n\nhttps://www.maxgruber.info\n&nbsp\;\n\n\n
CATEGORIES:Events
LOCATION:Porgy & Bess\, Riemergasse 11\, Wien\, Wien\, 1010\, Österreich
GEO:48.206833;16.37664
X-APPLE-STRUCTURED-LOCATION;VALUE=URI;X-ADDRESS=Riemergasse 11\, Wien\, Wie
 n\, 1010\, Österreich;X-APPLE-RADIUS=100;X-TITLE=Porgy & Bess:geo:48.2068
 33,16.37664
END:VEVENT
BEGIN:VTIMEZONE
TZID:Europe/Vienna
X-LIC-LOCATION:Europe/Vienna
BEGIN:DAYLIGHT
DTSTART:20260329T030000
TZOFFSETFROM:+0100
TZOFFSETTO:+0200
TZNAME:CEST
END:DAYLIGHT
END:VTIMEZONE
END:VCALENDAR