BEGIN:VCALENDAR
VERSION:2.0
PRODID:-//wp-events-plugin.com//7.2.3.1//EN
TZID:Europe/Vienna
X-WR-TIMEZONE:Europe/Vienna
BEGIN:VEVENT
UID:21928@musicaustria.at
DTSTART;TZID=Europe/Vienna:20260423T200000
DTEND;TZID=Europe/Vienna:20260423T200000
DTSTAMP:20260305T112448Z
URL:https://www.musicaustria.at/veranstaltungen/max-gaier-willi-landl/
SUMMARY:MAX GAIER & WILLI LANDL
DESCRIPTION:\nEin unerhörtes Duo\n\n\nMax Gaier textet\, komponiert und si
 ngt für und mit 5/8erl in Ehr’n und Sadfrancisco. Sein künstlerisches 
 Schaffen bewegt sich stets im Spannungsfeld zwischen dem\, was ist\, und d
 em\, was sein könnte. Sind die Texte tiefernst und leicht zugleich\, wird
  musikalisch der Pluralismus hochgehalten. Jede Bühne wird genutzt\, um d
 ie Liebe an der Irritation zu wecken und sich selbst und andere zu verzaub
 ern.\n\nWilli Landl ist Chansonnier und Songschreiber. Seine Musik zwische
 n Kunstlied und Popsong und in deutscher Sprache fürchtet keine emotional
 e Nähe und wird trotzdem nie pathetisch\, ist humorvoll\, aber nie komöd
 iantisch\, mitunter tiefgründig und doch niemals schwer. Eigenständig re
 spektlos nähert sich der Komponist und Sänger mit der schnörkellosen Er
 zählstimme dem Genremix.\n\nIn ihrem gemeinsamen Programm geben sich die 
 beiden alle Freiheiten: Es wird Solo und im Duo musiziert. Die beiden Song
 schreiber covern sich gegenseitig und bringen unerhörte Duette\, die ihne
 n gefallen\, zu Gehör – mit Gitarre oder Klavier oder a cappella oder g
 ar einem Playback.\n\nwww.instagram.com/williland \n5achterl.at
CATEGORIES:Events
LOCATION:Kulturlabor Stromboli\, Krippgasse 11\, Hall in Tirol\, Tirol\, 60
 60\, Österreich
GEO:47.282758;11.505784
X-APPLE-STRUCTURED-LOCATION;VALUE=URI;X-ADDRESS=Krippgasse 11\, Hall in Tir
 ol\, Tirol\, 6060\, Österreich;X-APPLE-RADIUS=100;X-TITLE=Kulturlabor Str
 omboli:geo:47.282758,11.505784
END:VEVENT
BEGIN:VTIMEZONE
TZID:Europe/Vienna
X-LIC-LOCATION:Europe/Vienna
BEGIN:DAYLIGHT
DTSTART:20260329T030000
TZOFFSETFROM:+0100
TZOFFSETTO:+0200
TZNAME:CEST
END:DAYLIGHT
END:VTIMEZONE
END:VCALENDAR