BEGIN:VCALENDAR
VERSION:2.0
PRODID:-//wp-events-plugin.com//7.2.3.1//EN
TZID:Europe/Vienna
X-WR-TIMEZONE:Europe/Vienna
BEGIN:VEVENT
UID:22087@musicaustria.at
DTSTART;TZID=Europe/Vienna:20260503T203000
DTEND;TZID=Europe/Vienna:20260503T203000
DTSTAMP:20260424T123434Z
URL:https://www.musicaustria.at/veranstaltungen/martin-breinschmid-the-rad
 io-kings-from-basin-street-to-broadway/
SUMMARY:Martin Breinschmid & The Radio Kings 'From Basin Street To Broadway
 '
DESCRIPTION:\n\nDer Wiener Bandleader Martin Breinschmid und seine „Radio
  Kings“ laden zu einer musikalischen Reise von New Orleans nach New York
  ein. Unter dem Motto „From Basin Street to Broadway“ präsentieren si
 e eine Show\, die alle Elemente der Swing-Ära beinhaltet. Gleich zwei ful
 minante Sängerinnen die US-Amerikanerin Carole Alston und Newcomer Star T
 anja Filipovics werden Hits aus dem „Great American Song Book“ präsen
 tieren. Steptanz-Meister Michael Fischer wird das Publikum in die Welt des
  legendären Fred Astaire entführen und die „Some Like It Hot“ Dancer
 s sind ein Tanzpaar\, das den akrobatisch virtuosen Lindy Hop/Jive brillan
 t präsentiert. Dieser Cocktail aus Vocal/ Instrumental/International und 
 der Schwerpunkt auf Tanz macht dieses Konzert zu einem „MUSS“ für all
 e Fans swingender Musik. (Pressetext)\n\nTanja Filipovics\, Carole Alston:
  vocals\nMichael Fischer: tap dance\nKatrin Horngacher\, Peta Paradjikovic
 : jive dance\nMilos Milojevic: reeds\nHerbert Swoboda: piano\nHarald Putz:
  bass\nMartin Breinschmid: drums\, vibraphone\n\n\nhttps://www.martin.brei
 nschmid.at/
CATEGORIES:Events
LOCATION:Porgy & Bess\, Riemergasse 11\, Wien\, Wien\, 1010\, Österreich
GEO:48.206833;16.37664
X-APPLE-STRUCTURED-LOCATION;VALUE=URI;X-ADDRESS=Riemergasse 11\, Wien\, Wie
 n\, 1010\, Österreich;X-APPLE-RADIUS=100;X-TITLE=Porgy & Bess:geo:48.2068
 33,16.37664
END:VEVENT
BEGIN:VTIMEZONE
TZID:Europe/Vienna
X-LIC-LOCATION:Europe/Vienna
BEGIN:DAYLIGHT
DTSTART:20260329T030000
TZOFFSETFROM:+0100
TZOFFSETTO:+0200
TZNAME:CEST
END:DAYLIGHT
END:VTIMEZONE
END:VCALENDAR